


BEGIN:VCALENDAR
VERSION:2.0
PRODID:-//High Street Place - ECPv6.15.11//NONSGML v1.0//EN
CALSCALE:GREGORIAN
METHOD:PUBLISH
X-WR-CALNAME:High Street Place
X-ORIGINAL-URL:https://www.highstreetplace.com
X-WR-CALDESC:Events for High Street Place
REFRESH-INTERVAL;VALUE=DURATION:PT1H
X-Robots-Tag:noindex
X-PUBLISHED-TTL:PT1H
BEGIN:VTIMEZONE
TZID:America/New_York
BEGIN:DAYLIGHT
TZOFFSETFROM:-0500
TZOFFSETTO:-0400
TZNAME:EDT
DTSTART:20290311T070000
END:DAYLIGHT
BEGIN:STANDARD
TZOFFSETFROM:-0400
TZOFFSETTO:-0500
TZNAME:EST
DTSTART:20291104T060000
END:STANDARD
BEGIN:DAYLIGHT
TZOFFSETFROM:-0500
TZOFFSETTO:-0400
TZNAME:EDT
DTSTART:20300310T070000
END:DAYLIGHT
BEGIN:STANDARD
TZOFFSETFROM:-0400
TZOFFSETTO:-0500
TZNAME:EST
DTSTART:20301103T060000
END:STANDARD
BEGIN:DAYLIGHT
TZOFFSETFROM:-0500
TZOFFSETTO:-0400
TZNAME:EDT
DTSTART:20310309T070000
END:DAYLIGHT
BEGIN:STANDARD
TZOFFSETFROM:-0400
TZOFFSETTO:-0500
TZNAME:EST
DTSTART:20311102T060000
END:STANDARD
END:VTIMEZONE
BEGIN:VEVENT
DTSTART;TZID=America/New_York:20300528T180000
DTEND;TZID=America/New_York:20300528T200000
DTSTAMP:20260421T010216
CREATED:20231120T181726Z
LAST-MODIFIED:20260330T172143Z
UID:10001052-1906221600-1906228800@www.highstreetplace.com
SUMMARY:Trivia Tuesdays
DESCRIPTION:Join us every Tuesday for trivia at 6pm and 7pm\, led by Stump.
URL:https://www.highstreetplace.com/event/trivia-tuesdays/2030-05-28/
CATEGORIES:Entertainment
ATTACH;FMTTYPE=image/png:https://www.highstreetplace.com/wp-content/uploads/2023/11/Bright-Sign-Template-for-Events-23.png
END:VEVENT
BEGIN:VEVENT
DTSTART;TZID=America/New_York:20300604T180000
DTEND;TZID=America/New_York:20300604T200000
DTSTAMP:20260421T010216
CREATED:20231120T181726Z
LAST-MODIFIED:20260330T172143Z
UID:10001053-1906826400-1906833600@www.highstreetplace.com
SUMMARY:Trivia Tuesdays
DESCRIPTION:Join us every Tuesday for trivia at 6pm and 7pm\, led by Stump.
URL:https://www.highstreetplace.com/event/trivia-tuesdays/2030-06-04/
CATEGORIES:Entertainment
ATTACH;FMTTYPE=image/png:https://www.highstreetplace.com/wp-content/uploads/2023/11/Bright-Sign-Template-for-Events-23.png
END:VEVENT
BEGIN:VEVENT
DTSTART;TZID=America/New_York:20300611T180000
DTEND;TZID=America/New_York:20300611T200000
DTSTAMP:20260421T010216
CREATED:20231120T181726Z
LAST-MODIFIED:20260330T172143Z
UID:10001054-1907431200-1907438400@www.highstreetplace.com
SUMMARY:Trivia Tuesdays
DESCRIPTION:Join us every Tuesday for trivia at 6pm and 7pm\, led by Stump.
URL:https://www.highstreetplace.com/event/trivia-tuesdays/2030-06-11/
CATEGORIES:Entertainment
ATTACH;FMTTYPE=image/png:https://www.highstreetplace.com/wp-content/uploads/2023/11/Bright-Sign-Template-for-Events-23.png
END:VEVENT
BEGIN:VEVENT
DTSTART;TZID=America/New_York:20300618T180000
DTEND;TZID=America/New_York:20300618T200000
DTSTAMP:20260421T010216
CREATED:20231120T181726Z
LAST-MODIFIED:20260330T172143Z
UID:10001055-1908036000-1908043200@www.highstreetplace.com
SUMMARY:Trivia Tuesdays
DESCRIPTION:Join us every Tuesday for trivia at 6pm and 7pm\, led by Stump.
URL:https://www.highstreetplace.com/event/trivia-tuesdays/2030-06-18/
CATEGORIES:Entertainment
ATTACH;FMTTYPE=image/png:https://www.highstreetplace.com/wp-content/uploads/2023/11/Bright-Sign-Template-for-Events-23.png
END:VEVENT
BEGIN:VEVENT
DTSTART;TZID=America/New_York:20300625T180000
DTEND;TZID=America/New_York:20300625T200000
DTSTAMP:20260421T010216
CREATED:20231120T181726Z
LAST-MODIFIED:20260330T172143Z
UID:10001056-1908640800-1908648000@www.highstreetplace.com
SUMMARY:Trivia Tuesdays
DESCRIPTION:Join us every Tuesday for trivia at 6pm and 7pm\, led by Stump.
URL:https://www.highstreetplace.com/event/trivia-tuesdays/2030-06-25/
CATEGORIES:Entertainment
ATTACH;FMTTYPE=image/png:https://www.highstreetplace.com/wp-content/uploads/2023/11/Bright-Sign-Template-for-Events-23.png
END:VEVENT
BEGIN:VEVENT
DTSTART;TZID=America/New_York:20300702T180000
DTEND;TZID=America/New_York:20300702T200000
DTSTAMP:20260421T010216
CREATED:20231120T181726Z
LAST-MODIFIED:20260330T172143Z
UID:10001057-1909245600-1909252800@www.highstreetplace.com
SUMMARY:Trivia Tuesdays
DESCRIPTION:Join us every Tuesday for trivia at 6pm and 7pm\, led by Stump.
URL:https://www.highstreetplace.com/event/trivia-tuesdays/2030-07-02/
CATEGORIES:Entertainment
ATTACH;FMTTYPE=image/png:https://www.highstreetplace.com/wp-content/uploads/2023/11/Bright-Sign-Template-for-Events-23.png
END:VEVENT
BEGIN:VEVENT
DTSTART;TZID=America/New_York:20300709T180000
DTEND;TZID=America/New_York:20300709T200000
DTSTAMP:20260421T010216
CREATED:20231120T181726Z
LAST-MODIFIED:20260330T172143Z
UID:10001136-1909850400-1909857600@www.highstreetplace.com
SUMMARY:Trivia Tuesdays
DESCRIPTION:Join us every Tuesday for trivia at 6pm and 7pm\, led by Stump.
URL:https://www.highstreetplace.com/event/trivia-tuesdays/2030-07-09/
CATEGORIES:Entertainment
ATTACH;FMTTYPE=image/png:https://www.highstreetplace.com/wp-content/uploads/2023/11/Bright-Sign-Template-for-Events-23.png
END:VEVENT
BEGIN:VEVENT
DTSTART;TZID=America/New_York:20300716T180000
DTEND;TZID=America/New_York:20300716T200000
DTSTAMP:20260421T010216
CREATED:20231120T181726Z
LAST-MODIFIED:20260330T172143Z
UID:10001137-1910455200-1910462400@www.highstreetplace.com
SUMMARY:Trivia Tuesdays
DESCRIPTION:Join us every Tuesday for trivia at 6pm and 7pm\, led by Stump.
URL:https://www.highstreetplace.com/event/trivia-tuesdays/2030-07-16/
CATEGORIES:Entertainment
ATTACH;FMTTYPE=image/png:https://www.highstreetplace.com/wp-content/uploads/2023/11/Bright-Sign-Template-for-Events-23.png
END:VEVENT
BEGIN:VEVENT
DTSTART;TZID=America/New_York:20300723T180000
DTEND;TZID=America/New_York:20300723T200000
DTSTAMP:20260421T010216
CREATED:20231120T181726Z
LAST-MODIFIED:20260330T172143Z
UID:10001138-1911060000-1911067200@www.highstreetplace.com
SUMMARY:Trivia Tuesdays
DESCRIPTION:Join us every Tuesday for trivia at 6pm and 7pm\, led by Stump.
URL:https://www.highstreetplace.com/event/trivia-tuesdays/2030-07-23/
CATEGORIES:Entertainment
ATTACH;FMTTYPE=image/png:https://www.highstreetplace.com/wp-content/uploads/2023/11/Bright-Sign-Template-for-Events-23.png
END:VEVENT
BEGIN:VEVENT
DTSTART;TZID=America/New_York:20300730T180000
DTEND;TZID=America/New_York:20300730T200000
DTSTAMP:20260421T010216
CREATED:20231120T181726Z
LAST-MODIFIED:20260330T172143Z
UID:10001139-1911664800-1911672000@www.highstreetplace.com
SUMMARY:Trivia Tuesdays
DESCRIPTION:Join us every Tuesday for trivia at 6pm and 7pm\, led by Stump.
URL:https://www.highstreetplace.com/event/trivia-tuesdays/2030-07-30/
CATEGORIES:Entertainment
ATTACH;FMTTYPE=image/png:https://www.highstreetplace.com/wp-content/uploads/2023/11/Bright-Sign-Template-for-Events-23.png
END:VEVENT
BEGIN:VEVENT
DTSTART;TZID=America/New_York:20300806T180000
DTEND;TZID=America/New_York:20300806T200000
DTSTAMP:20260421T010216
CREATED:20231120T181726Z
LAST-MODIFIED:20260330T172143Z
UID:10001140-1912269600-1912276800@www.highstreetplace.com
SUMMARY:Trivia Tuesdays
DESCRIPTION:Join us every Tuesday for trivia at 6pm and 7pm\, led by Stump.
URL:https://www.highstreetplace.com/event/trivia-tuesdays/2030-08-06/
CATEGORIES:Entertainment
ATTACH;FMTTYPE=image/png:https://www.highstreetplace.com/wp-content/uploads/2023/11/Bright-Sign-Template-for-Events-23.png
END:VEVENT
BEGIN:VEVENT
DTSTART;TZID=America/New_York:20300813T180000
DTEND;TZID=America/New_York:20300813T200000
DTSTAMP:20260421T010216
CREATED:20231120T181726Z
LAST-MODIFIED:20260330T172143Z
UID:10001141-1912874400-1912881600@www.highstreetplace.com
SUMMARY:Trivia Tuesdays
DESCRIPTION:Join us every Tuesday for trivia at 6pm and 7pm\, led by Stump.
URL:https://www.highstreetplace.com/event/trivia-tuesdays/2030-08-13/
CATEGORIES:Entertainment
ATTACH;FMTTYPE=image/png:https://www.highstreetplace.com/wp-content/uploads/2023/11/Bright-Sign-Template-for-Events-23.png
END:VEVENT
BEGIN:VEVENT
DTSTART;TZID=America/New_York:20300820T180000
DTEND;TZID=America/New_York:20300820T200000
DTSTAMP:20260421T010216
CREATED:20231120T181726Z
LAST-MODIFIED:20260330T172143Z
UID:10001142-1913479200-1913486400@www.highstreetplace.com
SUMMARY:Trivia Tuesdays
DESCRIPTION:Join us every Tuesday for trivia at 6pm and 7pm\, led by Stump.
URL:https://www.highstreetplace.com/event/trivia-tuesdays/2030-08-20/
CATEGORIES:Entertainment
ATTACH;FMTTYPE=image/png:https://www.highstreetplace.com/wp-content/uploads/2023/11/Bright-Sign-Template-for-Events-23.png
END:VEVENT
BEGIN:VEVENT
DTSTART;TZID=America/New_York:20300827T180000
DTEND;TZID=America/New_York:20300827T200000
DTSTAMP:20260421T010216
CREATED:20231120T181726Z
LAST-MODIFIED:20260330T172143Z
UID:10001143-1914084000-1914091200@www.highstreetplace.com
SUMMARY:Trivia Tuesdays
DESCRIPTION:Join us every Tuesday for trivia at 6pm and 7pm\, led by Stump.
URL:https://www.highstreetplace.com/event/trivia-tuesdays/2030-08-27/
CATEGORIES:Entertainment
ATTACH;FMTTYPE=image/png:https://www.highstreetplace.com/wp-content/uploads/2023/11/Bright-Sign-Template-for-Events-23.png
END:VEVENT
BEGIN:VEVENT
DTSTART;TZID=America/New_York:20300903T180000
DTEND;TZID=America/New_York:20300903T200000
DTSTAMP:20260421T010216
CREATED:20231120T181726Z
LAST-MODIFIED:20260330T172143Z
UID:10001144-1914688800-1914696000@www.highstreetplace.com
SUMMARY:Trivia Tuesdays
DESCRIPTION:Join us every Tuesday for trivia at 6pm and 7pm\, led by Stump.
URL:https://www.highstreetplace.com/event/trivia-tuesdays/2030-09-03/
CATEGORIES:Entertainment
ATTACH;FMTTYPE=image/png:https://www.highstreetplace.com/wp-content/uploads/2023/11/Bright-Sign-Template-for-Events-23.png
END:VEVENT
BEGIN:VEVENT
DTSTART;TZID=America/New_York:20300910T180000
DTEND;TZID=America/New_York:20300910T200000
DTSTAMP:20260421T010216
CREATED:20231120T181726Z
LAST-MODIFIED:20260330T172143Z
UID:10001145-1915293600-1915300800@www.highstreetplace.com
SUMMARY:Trivia Tuesdays
DESCRIPTION:Join us every Tuesday for trivia at 6pm and 7pm\, led by Stump.
URL:https://www.highstreetplace.com/event/trivia-tuesdays/2030-09-10/
CATEGORIES:Entertainment
ATTACH;FMTTYPE=image/png:https://www.highstreetplace.com/wp-content/uploads/2023/11/Bright-Sign-Template-for-Events-23.png
END:VEVENT
BEGIN:VEVENT
DTSTART;TZID=America/New_York:20300917T180000
DTEND;TZID=America/New_York:20300917T200000
DTSTAMP:20260421T010216
CREATED:20231120T181726Z
LAST-MODIFIED:20260330T172143Z
UID:10001146-1915898400-1915905600@www.highstreetplace.com
SUMMARY:Trivia Tuesdays
DESCRIPTION:Join us every Tuesday for trivia at 6pm and 7pm\, led by Stump.
URL:https://www.highstreetplace.com/event/trivia-tuesdays/2030-09-17/
CATEGORIES:Entertainment
ATTACH;FMTTYPE=image/png:https://www.highstreetplace.com/wp-content/uploads/2023/11/Bright-Sign-Template-for-Events-23.png
END:VEVENT
BEGIN:VEVENT
DTSTART;TZID=America/New_York:20300924T180000
DTEND;TZID=America/New_York:20300924T200000
DTSTAMP:20260421T010216
CREATED:20231120T181726Z
LAST-MODIFIED:20260330T172143Z
UID:10001147-1916503200-1916510400@www.highstreetplace.com
SUMMARY:Trivia Tuesdays
DESCRIPTION:Join us every Tuesday for trivia at 6pm and 7pm\, led by Stump.
URL:https://www.highstreetplace.com/event/trivia-tuesdays/2030-09-24/
CATEGORIES:Entertainment
ATTACH;FMTTYPE=image/png:https://www.highstreetplace.com/wp-content/uploads/2023/11/Bright-Sign-Template-for-Events-23.png
END:VEVENT
BEGIN:VEVENT
DTSTART;TZID=America/New_York:20301001T180000
DTEND;TZID=America/New_York:20301001T200000
DTSTAMP:20260421T010216
CREATED:20231120T181726Z
LAST-MODIFIED:20260330T172143Z
UID:10001148-1917108000-1917115200@www.highstreetplace.com
SUMMARY:Trivia Tuesdays
DESCRIPTION:Join us every Tuesday for trivia at 6pm and 7pm\, led by Stump.
URL:https://www.highstreetplace.com/event/trivia-tuesdays/2030-10-01/
CATEGORIES:Entertainment
ATTACH;FMTTYPE=image/png:https://www.highstreetplace.com/wp-content/uploads/2023/11/Bright-Sign-Template-for-Events-23.png
END:VEVENT
BEGIN:VEVENT
DTSTART;TZID=America/New_York:20301008T180000
DTEND;TZID=America/New_York:20301008T200000
DTSTAMP:20260421T010216
CREATED:20231120T181726Z
LAST-MODIFIED:20260330T172143Z
UID:10001149-1917712800-1917720000@www.highstreetplace.com
SUMMARY:Trivia Tuesdays
DESCRIPTION:Join us every Tuesday for trivia at 6pm and 7pm\, led by Stump.
URL:https://www.highstreetplace.com/event/trivia-tuesdays/2030-10-08/
CATEGORIES:Entertainment
ATTACH;FMTTYPE=image/png:https://www.highstreetplace.com/wp-content/uploads/2023/11/Bright-Sign-Template-for-Events-23.png
END:VEVENT
BEGIN:VEVENT
DTSTART;TZID=America/New_York:20301015T180000
DTEND;TZID=America/New_York:20301015T200000
DTSTAMP:20260421T010216
CREATED:20231120T181726Z
LAST-MODIFIED:20260330T172143Z
UID:10001150-1918317600-1918324800@www.highstreetplace.com
SUMMARY:Trivia Tuesdays
DESCRIPTION:Join us every Tuesday for trivia at 6pm and 7pm\, led by Stump.
URL:https://www.highstreetplace.com/event/trivia-tuesdays/2030-10-15/
CATEGORIES:Entertainment
ATTACH;FMTTYPE=image/png:https://www.highstreetplace.com/wp-content/uploads/2023/11/Bright-Sign-Template-for-Events-23.png
END:VEVENT
BEGIN:VEVENT
DTSTART;TZID=America/New_York:20301022T180000
DTEND;TZID=America/New_York:20301022T200000
DTSTAMP:20260421T010216
CREATED:20231120T181726Z
LAST-MODIFIED:20260330T172143Z
UID:10001256-1918922400-1918929600@www.highstreetplace.com
SUMMARY:Trivia Tuesdays
DESCRIPTION:Join us every Tuesday for trivia at 6pm and 7pm\, led by Stump.
URL:https://www.highstreetplace.com/event/trivia-tuesdays/2030-10-22/
CATEGORIES:Entertainment
ATTACH;FMTTYPE=image/png:https://www.highstreetplace.com/wp-content/uploads/2023/11/Bright-Sign-Template-for-Events-23.png
END:VEVENT
BEGIN:VEVENT
DTSTART;TZID=America/New_York:20301029T180000
DTEND;TZID=America/New_York:20301029T200000
DTSTAMP:20260421T010216
CREATED:20231120T181726Z
LAST-MODIFIED:20260330T172143Z
UID:10001257-1919527200-1919534400@www.highstreetplace.com
SUMMARY:Trivia Tuesdays
DESCRIPTION:Join us every Tuesday for trivia at 6pm and 7pm\, led by Stump.
URL:https://www.highstreetplace.com/event/trivia-tuesdays/2030-10-29/
CATEGORIES:Entertainment
ATTACH;FMTTYPE=image/png:https://www.highstreetplace.com/wp-content/uploads/2023/11/Bright-Sign-Template-for-Events-23.png
END:VEVENT
BEGIN:VEVENT
DTSTART;TZID=America/New_York:20301105T180000
DTEND;TZID=America/New_York:20301105T200000
DTSTAMP:20260421T010216
CREATED:20231120T181726Z
LAST-MODIFIED:20260330T172143Z
UID:10001258-1920132000-1920139200@www.highstreetplace.com
SUMMARY:Trivia Tuesdays
DESCRIPTION:Join us every Tuesday for trivia at 6pm and 7pm\, led by Stump.
URL:https://www.highstreetplace.com/event/trivia-tuesdays/2030-11-05/
CATEGORIES:Entertainment
ATTACH;FMTTYPE=image/png:https://www.highstreetplace.com/wp-content/uploads/2023/11/Bright-Sign-Template-for-Events-23.png
END:VEVENT
BEGIN:VEVENT
DTSTART;TZID=America/New_York:20301112T180000
DTEND;TZID=America/New_York:20301112T200000
DTSTAMP:20260421T010216
CREATED:20231120T181726Z
LAST-MODIFIED:20260330T172143Z
UID:10001259-1920736800-1920744000@www.highstreetplace.com
SUMMARY:Trivia Tuesdays
DESCRIPTION:Join us every Tuesday for trivia at 6pm and 7pm\, led by Stump.
URL:https://www.highstreetplace.com/event/trivia-tuesdays/2030-11-12/
CATEGORIES:Entertainment
ATTACH;FMTTYPE=image/png:https://www.highstreetplace.com/wp-content/uploads/2023/11/Bright-Sign-Template-for-Events-23.png
END:VEVENT
BEGIN:VEVENT
DTSTART;TZID=America/New_York:20301119T180000
DTEND;TZID=America/New_York:20301119T200000
DTSTAMP:20260421T010216
CREATED:20231120T181726Z
LAST-MODIFIED:20260330T172143Z
UID:10001260-1921341600-1921348800@www.highstreetplace.com
SUMMARY:Trivia Tuesdays
DESCRIPTION:Join us every Tuesday for trivia at 6pm and 7pm\, led by Stump.
URL:https://www.highstreetplace.com/event/trivia-tuesdays/2030-11-19/
CATEGORIES:Entertainment
ATTACH;FMTTYPE=image/png:https://www.highstreetplace.com/wp-content/uploads/2023/11/Bright-Sign-Template-for-Events-23.png
END:VEVENT
BEGIN:VEVENT
DTSTART;TZID=America/New_York:20301126T180000
DTEND;TZID=America/New_York:20301126T200000
DTSTAMP:20260421T010216
CREATED:20231120T181726Z
LAST-MODIFIED:20260330T172143Z
UID:10001261-1921946400-1921953600@www.highstreetplace.com
SUMMARY:Trivia Tuesdays
DESCRIPTION:Join us every Tuesday for trivia at 6pm and 7pm\, led by Stump.
URL:https://www.highstreetplace.com/event/trivia-tuesdays/2030-11-26/
CATEGORIES:Entertainment
ATTACH;FMTTYPE=image/png:https://www.highstreetplace.com/wp-content/uploads/2023/11/Bright-Sign-Template-for-Events-23.png
END:VEVENT
BEGIN:VEVENT
DTSTART;TZID=America/New_York:20301203T180000
DTEND;TZID=America/New_York:20301203T200000
DTSTAMP:20260421T010216
CREATED:20231120T181726Z
LAST-MODIFIED:20260330T172143Z
UID:10001262-1922551200-1922558400@www.highstreetplace.com
SUMMARY:Trivia Tuesdays
DESCRIPTION:Join us every Tuesday for trivia at 6pm and 7pm\, led by Stump.
URL:https://www.highstreetplace.com/event/trivia-tuesdays/2030-12-03/
CATEGORIES:Entertainment
ATTACH;FMTTYPE=image/png:https://www.highstreetplace.com/wp-content/uploads/2023/11/Bright-Sign-Template-for-Events-23.png
END:VEVENT
BEGIN:VEVENT
DTSTART;TZID=America/New_York:20301210T180000
DTEND;TZID=America/New_York:20301210T200000
DTSTAMP:20260421T010216
CREATED:20231120T181726Z
LAST-MODIFIED:20260330T172143Z
UID:10001263-1923156000-1923163200@www.highstreetplace.com
SUMMARY:Trivia Tuesdays
DESCRIPTION:Join us every Tuesday for trivia at 6pm and 7pm\, led by Stump.
URL:https://www.highstreetplace.com/event/trivia-tuesdays/2030-12-10/
CATEGORIES:Entertainment
ATTACH;FMTTYPE=image/png:https://www.highstreetplace.com/wp-content/uploads/2023/11/Bright-Sign-Template-for-Events-23.png
END:VEVENT
BEGIN:VEVENT
DTSTART;TZID=America/New_York:20301217T180000
DTEND;TZID=America/New_York:20301217T200000
DTSTAMP:20260421T010216
CREATED:20231120T181726Z
LAST-MODIFIED:20260330T172143Z
UID:10001264-1923760800-1923768000@www.highstreetplace.com
SUMMARY:Trivia Tuesdays
DESCRIPTION:Join us every Tuesday for trivia at 6pm and 7pm\, led by Stump.
URL:https://www.highstreetplace.com/event/trivia-tuesdays/2030-12-17/
CATEGORIES:Entertainment
ATTACH;FMTTYPE=image/png:https://www.highstreetplace.com/wp-content/uploads/2023/11/Bright-Sign-Template-for-Events-23.png
END:VEVENT
END:VCALENDAR