


BEGIN:VCALENDAR
VERSION:2.0
PRODID:-//High Street Place - ECPv6.15.11//NONSGML v1.0//EN
CALSCALE:GREGORIAN
METHOD:PUBLISH
X-ORIGINAL-URL:https://www.highstreetplace.com
X-WR-CALDESC:Events for High Street Place
REFRESH-INTERVAL;VALUE=DURATION:PT1H
X-Robots-Tag:noindex
X-PUBLISHED-TTL:PT1H
BEGIN:VTIMEZONE
TZID:America/New_York
BEGIN:DAYLIGHT
TZOFFSETFROM:-0500
TZOFFSETTO:-0400
TZNAME:EDT
DTSTART:20260308T070000
END:DAYLIGHT
BEGIN:STANDARD
TZOFFSETFROM:-0400
TZOFFSETTO:-0500
TZNAME:EST
DTSTART:20261101T060000
END:STANDARD
BEGIN:DAYLIGHT
TZOFFSETFROM:-0500
TZOFFSETTO:-0400
TZNAME:EDT
DTSTART:20270314T070000
END:DAYLIGHT
BEGIN:STANDARD
TZOFFSETFROM:-0400
TZOFFSETTO:-0500
TZNAME:EST
DTSTART:20271107T060000
END:STANDARD
BEGIN:DAYLIGHT
TZOFFSETFROM:-0500
TZOFFSETTO:-0400
TZNAME:EDT
DTSTART:20280312T070000
END:DAYLIGHT
BEGIN:STANDARD
TZOFFSETFROM:-0400
TZOFFSETTO:-0500
TZNAME:EST
DTSTART:20281105T060000
END:STANDARD
BEGIN:DAYLIGHT
TZOFFSETFROM:-0500
TZOFFSETTO:-0400
TZNAME:EDT
DTSTART:20290311T070000
END:DAYLIGHT
BEGIN:STANDARD
TZOFFSETFROM:-0400
TZOFFSETTO:-0500
TZNAME:EST
DTSTART:20291104T060000
END:STANDARD
END:VTIMEZONE
BEGIN:VEVENT
DTSTART;TZID=America/New_York:20271019T180000
DTEND;TZID=America/New_York:20271019T200000
DTSTAMP:20260419T165258
CREATED:20231120T181726Z
LAST-MODIFIED:20260330T172143Z
UID:10000337-1823968800-1823976000@www.highstreetplace.com
SUMMARY:Trivia Tuesdays
DESCRIPTION:Join us every Tuesday for trivia at 6pm and 7pm\, led by Stump.
URL:https://www.highstreetplace.com/event/trivia-tuesdays/2027-10-19/
CATEGORIES:Entertainment
ATTACH;FMTTYPE=image/png:https://www.highstreetplace.com/wp-content/uploads/2023/11/Bright-Sign-Template-for-Events-23.png
END:VEVENT
BEGIN:VEVENT
DTSTART;TZID=America/New_York:20271026T180000
DTEND;TZID=America/New_York:20271026T200000
DTSTAMP:20260419T165258
CREATED:20231120T181726Z
LAST-MODIFIED:20260330T172143Z
UID:10000338-1824573600-1824580800@www.highstreetplace.com
SUMMARY:Trivia Tuesdays
DESCRIPTION:Join us every Tuesday for trivia at 6pm and 7pm\, led by Stump.
URL:https://www.highstreetplace.com/event/trivia-tuesdays/2027-10-26/
CATEGORIES:Entertainment
ATTACH;FMTTYPE=image/png:https://www.highstreetplace.com/wp-content/uploads/2023/11/Bright-Sign-Template-for-Events-23.png
END:VEVENT
BEGIN:VEVENT
DTSTART;TZID=America/New_York:20271102T180000
DTEND;TZID=America/New_York:20271102T200000
DTSTAMP:20260419T165258
CREATED:20231120T181726Z
LAST-MODIFIED:20260330T172143Z
UID:10000339-1825178400-1825185600@www.highstreetplace.com
SUMMARY:Trivia Tuesdays
DESCRIPTION:Join us every Tuesday for trivia at 6pm and 7pm\, led by Stump.
URL:https://www.highstreetplace.com/event/trivia-tuesdays/2027-11-02/
CATEGORIES:Entertainment
ATTACH;FMTTYPE=image/png:https://www.highstreetplace.com/wp-content/uploads/2023/11/Bright-Sign-Template-for-Events-23.png
END:VEVENT
BEGIN:VEVENT
DTSTART;TZID=America/New_York:20271109T180000
DTEND;TZID=America/New_York:20271109T200000
DTSTAMP:20260419T165258
CREATED:20231120T181726Z
LAST-MODIFIED:20260330T172143Z
UID:10000340-1825783200-1825790400@www.highstreetplace.com
SUMMARY:Trivia Tuesdays
DESCRIPTION:Join us every Tuesday for trivia at 6pm and 7pm\, led by Stump.
URL:https://www.highstreetplace.com/event/trivia-tuesdays/2027-11-09/
CATEGORIES:Entertainment
ATTACH;FMTTYPE=image/png:https://www.highstreetplace.com/wp-content/uploads/2023/11/Bright-Sign-Template-for-Events-23.png
END:VEVENT
BEGIN:VEVENT
DTSTART;TZID=America/New_York:20271116T180000
DTEND;TZID=America/New_York:20271116T200000
DTSTAMP:20260419T165258
CREATED:20231120T181726Z
LAST-MODIFIED:20260330T172143Z
UID:10000341-1826388000-1826395200@www.highstreetplace.com
SUMMARY:Trivia Tuesdays
DESCRIPTION:Join us every Tuesday for trivia at 6pm and 7pm\, led by Stump.
URL:https://www.highstreetplace.com/event/trivia-tuesdays/2027-11-16/
CATEGORIES:Entertainment
ATTACH;FMTTYPE=image/png:https://www.highstreetplace.com/wp-content/uploads/2023/11/Bright-Sign-Template-for-Events-23.png
END:VEVENT
BEGIN:VEVENT
DTSTART;TZID=America/New_York:20271123T180000
DTEND;TZID=America/New_York:20271123T200000
DTSTAMP:20260419T165258
CREATED:20231120T181726Z
LAST-MODIFIED:20260330T172143Z
UID:10000342-1826992800-1827000000@www.highstreetplace.com
SUMMARY:Trivia Tuesdays
DESCRIPTION:Join us every Tuesday for trivia at 6pm and 7pm\, led by Stump.
URL:https://www.highstreetplace.com/event/trivia-tuesdays/2027-11-23/
CATEGORIES:Entertainment
ATTACH;FMTTYPE=image/png:https://www.highstreetplace.com/wp-content/uploads/2023/11/Bright-Sign-Template-for-Events-23.png
END:VEVENT
BEGIN:VEVENT
DTSTART;TZID=America/New_York:20271130T180000
DTEND;TZID=America/New_York:20271130T200000
DTSTAMP:20260419T165258
CREATED:20231120T181726Z
LAST-MODIFIED:20260330T172143Z
UID:10000343-1827597600-1827604800@www.highstreetplace.com
SUMMARY:Trivia Tuesdays
DESCRIPTION:Join us every Tuesday for trivia at 6pm and 7pm\, led by Stump.
URL:https://www.highstreetplace.com/event/trivia-tuesdays/2027-11-30/
CATEGORIES:Entertainment
ATTACH;FMTTYPE=image/png:https://www.highstreetplace.com/wp-content/uploads/2023/11/Bright-Sign-Template-for-Events-23.png
END:VEVENT
BEGIN:VEVENT
DTSTART;TZID=America/New_York:20271207T180000
DTEND;TZID=America/New_York:20271207T200000
DTSTAMP:20260419T165258
CREATED:20231120T181726Z
LAST-MODIFIED:20260330T172143Z
UID:10000344-1828202400-1828209600@www.highstreetplace.com
SUMMARY:Trivia Tuesdays
DESCRIPTION:Join us every Tuesday for trivia at 6pm and 7pm\, led by Stump.
URL:https://www.highstreetplace.com/event/trivia-tuesdays/2027-12-07/
CATEGORIES:Entertainment
ATTACH;FMTTYPE=image/png:https://www.highstreetplace.com/wp-content/uploads/2023/11/Bright-Sign-Template-for-Events-23.png
END:VEVENT
BEGIN:VEVENT
DTSTART;TZID=America/New_York:20271214T180000
DTEND;TZID=America/New_York:20271214T200000
DTSTAMP:20260419T165258
CREATED:20231120T181726Z
LAST-MODIFIED:20260330T172143Z
UID:10000345-1828807200-1828814400@www.highstreetplace.com
SUMMARY:Trivia Tuesdays
DESCRIPTION:Join us every Tuesday for trivia at 6pm and 7pm\, led by Stump.
URL:https://www.highstreetplace.com/event/trivia-tuesdays/2027-12-14/
CATEGORIES:Entertainment
ATTACH;FMTTYPE=image/png:https://www.highstreetplace.com/wp-content/uploads/2023/11/Bright-Sign-Template-for-Events-23.png
END:VEVENT
BEGIN:VEVENT
DTSTART;TZID=America/New_York:20271221T180000
DTEND;TZID=America/New_York:20271221T200000
DTSTAMP:20260419T165258
CREATED:20231120T181726Z
LAST-MODIFIED:20260330T172143Z
UID:10000346-1829412000-1829419200@www.highstreetplace.com
SUMMARY:Trivia Tuesdays
DESCRIPTION:Join us every Tuesday for trivia at 6pm and 7pm\, led by Stump.
URL:https://www.highstreetplace.com/event/trivia-tuesdays/2027-12-21/
CATEGORIES:Entertainment
ATTACH;FMTTYPE=image/png:https://www.highstreetplace.com/wp-content/uploads/2023/11/Bright-Sign-Template-for-Events-23.png
END:VEVENT
BEGIN:VEVENT
DTSTART;TZID=America/New_York:20271228T180000
DTEND;TZID=America/New_York:20271228T200000
DTSTAMP:20260419T165258
CREATED:20231120T181726Z
LAST-MODIFIED:20260330T172143Z
UID:10000347-1830016800-1830024000@www.highstreetplace.com
SUMMARY:Trivia Tuesdays
DESCRIPTION:Join us every Tuesday for trivia at 6pm and 7pm\, led by Stump.
URL:https://www.highstreetplace.com/event/trivia-tuesdays/2027-12-28/
CATEGORIES:Entertainment
ATTACH;FMTTYPE=image/png:https://www.highstreetplace.com/wp-content/uploads/2023/11/Bright-Sign-Template-for-Events-23.png
END:VEVENT
BEGIN:VEVENT
DTSTART;TZID=America/New_York:20280104T180000
DTEND;TZID=America/New_York:20280104T200000
DTSTAMP:20260419T165258
CREATED:20231120T181726Z
LAST-MODIFIED:20260330T172143Z
UID:10000348-1830621600-1830628800@www.highstreetplace.com
SUMMARY:Trivia Tuesdays
DESCRIPTION:Join us every Tuesday for trivia at 6pm and 7pm\, led by Stump.
URL:https://www.highstreetplace.com/event/trivia-tuesdays/2028-01-04/
CATEGORIES:Entertainment
ATTACH;FMTTYPE=image/png:https://www.highstreetplace.com/wp-content/uploads/2023/11/Bright-Sign-Template-for-Events-23.png
END:VEVENT
BEGIN:VEVENT
DTSTART;TZID=America/New_York:20280111T180000
DTEND;TZID=America/New_York:20280111T200000
DTSTAMP:20260419T165258
CREATED:20231120T181726Z
LAST-MODIFIED:20260330T172143Z
UID:10000349-1831226400-1831233600@www.highstreetplace.com
SUMMARY:Trivia Tuesdays
DESCRIPTION:Join us every Tuesday for trivia at 6pm and 7pm\, led by Stump.
URL:https://www.highstreetplace.com/event/trivia-tuesdays/2028-01-11/
CATEGORIES:Entertainment
ATTACH;FMTTYPE=image/png:https://www.highstreetplace.com/wp-content/uploads/2023/11/Bright-Sign-Template-for-Events-23.png
END:VEVENT
BEGIN:VEVENT
DTSTART;TZID=America/New_York:20280118T180000
DTEND;TZID=America/New_York:20280118T200000
DTSTAMP:20260419T165258
CREATED:20231120T181726Z
LAST-MODIFIED:20260330T172143Z
UID:10000350-1831831200-1831838400@www.highstreetplace.com
SUMMARY:Trivia Tuesdays
DESCRIPTION:Join us every Tuesday for trivia at 6pm and 7pm\, led by Stump.
URL:https://www.highstreetplace.com/event/trivia-tuesdays/2028-01-18/
CATEGORIES:Entertainment
ATTACH;FMTTYPE=image/png:https://www.highstreetplace.com/wp-content/uploads/2023/11/Bright-Sign-Template-for-Events-23.png
END:VEVENT
BEGIN:VEVENT
DTSTART;TZID=America/New_York:20280125T180000
DTEND;TZID=America/New_York:20280125T200000
DTSTAMP:20260419T165258
CREATED:20231120T181726Z
LAST-MODIFIED:20260330T172143Z
UID:10000351-1832436000-1832443200@www.highstreetplace.com
SUMMARY:Trivia Tuesdays
DESCRIPTION:Join us every Tuesday for trivia at 6pm and 7pm\, led by Stump.
URL:https://www.highstreetplace.com/event/trivia-tuesdays/2028-01-25/
CATEGORIES:Entertainment
ATTACH;FMTTYPE=image/png:https://www.highstreetplace.com/wp-content/uploads/2023/11/Bright-Sign-Template-for-Events-23.png
END:VEVENT
BEGIN:VEVENT
DTSTART;TZID=America/New_York:20280201T180000
DTEND;TZID=America/New_York:20280201T200000
DTSTAMP:20260419T165258
CREATED:20231120T181726Z
LAST-MODIFIED:20260330T172143Z
UID:10000352-1833040800-1833048000@www.highstreetplace.com
SUMMARY:Trivia Tuesdays
DESCRIPTION:Join us every Tuesday for trivia at 6pm and 7pm\, led by Stump.
URL:https://www.highstreetplace.com/event/trivia-tuesdays/2028-02-01/
CATEGORIES:Entertainment
ATTACH;FMTTYPE=image/png:https://www.highstreetplace.com/wp-content/uploads/2023/11/Bright-Sign-Template-for-Events-23.png
END:VEVENT
BEGIN:VEVENT
DTSTART;TZID=America/New_York:20280208T180000
DTEND;TZID=America/New_York:20280208T200000
DTSTAMP:20260419T165258
CREATED:20231120T181726Z
LAST-MODIFIED:20260330T172143Z
UID:10000353-1833645600-1833652800@www.highstreetplace.com
SUMMARY:Trivia Tuesdays
DESCRIPTION:Join us every Tuesday for trivia at 6pm and 7pm\, led by Stump.
URL:https://www.highstreetplace.com/event/trivia-tuesdays/2028-02-08/
CATEGORIES:Entertainment
ATTACH;FMTTYPE=image/png:https://www.highstreetplace.com/wp-content/uploads/2023/11/Bright-Sign-Template-for-Events-23.png
END:VEVENT
BEGIN:VEVENT
DTSTART;TZID=America/New_York:20280215T180000
DTEND;TZID=America/New_York:20280215T200000
DTSTAMP:20260419T165258
CREATED:20231120T181726Z
LAST-MODIFIED:20260330T172143Z
UID:10000354-1834250400-1834257600@www.highstreetplace.com
SUMMARY:Trivia Tuesdays
DESCRIPTION:Join us every Tuesday for trivia at 6pm and 7pm\, led by Stump.
URL:https://www.highstreetplace.com/event/trivia-tuesdays/2028-02-15/
CATEGORIES:Entertainment
ATTACH;FMTTYPE=image/png:https://www.highstreetplace.com/wp-content/uploads/2023/11/Bright-Sign-Template-for-Events-23.png
END:VEVENT
BEGIN:VEVENT
DTSTART;TZID=America/New_York:20280222T180000
DTEND;TZID=America/New_York:20280222T200000
DTSTAMP:20260419T165258
CREATED:20231120T181726Z
LAST-MODIFIED:20260330T172143Z
UID:10000355-1834855200-1834862400@www.highstreetplace.com
SUMMARY:Trivia Tuesdays
DESCRIPTION:Join us every Tuesday for trivia at 6pm and 7pm\, led by Stump.
URL:https://www.highstreetplace.com/event/trivia-tuesdays/2028-02-22/
CATEGORIES:Entertainment
ATTACH;FMTTYPE=image/png:https://www.highstreetplace.com/wp-content/uploads/2023/11/Bright-Sign-Template-for-Events-23.png
END:VEVENT
BEGIN:VEVENT
DTSTART;TZID=America/New_York:20280229T180000
DTEND;TZID=America/New_York:20280229T200000
DTSTAMP:20260419T165258
CREATED:20231120T181726Z
LAST-MODIFIED:20260330T172143Z
UID:10000356-1835460000-1835467200@www.highstreetplace.com
SUMMARY:Trivia Tuesdays
DESCRIPTION:Join us every Tuesday for trivia at 6pm and 7pm\, led by Stump.
URL:https://www.highstreetplace.com/event/trivia-tuesdays/2028-02-29/
CATEGORIES:Entertainment
ATTACH;FMTTYPE=image/png:https://www.highstreetplace.com/wp-content/uploads/2023/11/Bright-Sign-Template-for-Events-23.png
END:VEVENT
BEGIN:VEVENT
DTSTART;TZID=America/New_York:20280307T180000
DTEND;TZID=America/New_York:20280307T200000
DTSTAMP:20260419T165258
CREATED:20231120T181726Z
LAST-MODIFIED:20260330T172143Z
UID:10000357-1836064800-1836072000@www.highstreetplace.com
SUMMARY:Trivia Tuesdays
DESCRIPTION:Join us every Tuesday for trivia at 6pm and 7pm\, led by Stump.
URL:https://www.highstreetplace.com/event/trivia-tuesdays/2028-03-07/
CATEGORIES:Entertainment
ATTACH;FMTTYPE=image/png:https://www.highstreetplace.com/wp-content/uploads/2023/11/Bright-Sign-Template-for-Events-23.png
END:VEVENT
BEGIN:VEVENT
DTSTART;TZID=America/New_York:20280314T180000
DTEND;TZID=America/New_York:20280314T200000
DTSTAMP:20260419T165258
CREATED:20231120T181726Z
LAST-MODIFIED:20260330T172143Z
UID:10000358-1836669600-1836676800@www.highstreetplace.com
SUMMARY:Trivia Tuesdays
DESCRIPTION:Join us every Tuesday for trivia at 6pm and 7pm\, led by Stump.
URL:https://www.highstreetplace.com/event/trivia-tuesdays/2028-03-14/
CATEGORIES:Entertainment
ATTACH;FMTTYPE=image/png:https://www.highstreetplace.com/wp-content/uploads/2023/11/Bright-Sign-Template-for-Events-23.png
END:VEVENT
BEGIN:VEVENT
DTSTART;TZID=America/New_York:20280321T180000
DTEND;TZID=America/New_York:20280321T200000
DTSTAMP:20260419T165258
CREATED:20231120T181726Z
LAST-MODIFIED:20260330T172143Z
UID:10000359-1837274400-1837281600@www.highstreetplace.com
SUMMARY:Trivia Tuesdays
DESCRIPTION:Join us every Tuesday for trivia at 6pm and 7pm\, led by Stump.
URL:https://www.highstreetplace.com/event/trivia-tuesdays/2028-03-21/
CATEGORIES:Entertainment
ATTACH;FMTTYPE=image/png:https://www.highstreetplace.com/wp-content/uploads/2023/11/Bright-Sign-Template-for-Events-23.png
END:VEVENT
BEGIN:VEVENT
DTSTART;TZID=America/New_York:20280328T180000
DTEND;TZID=America/New_York:20280328T200000
DTSTAMP:20260419T165258
CREATED:20231120T181726Z
LAST-MODIFIED:20260330T172143Z
UID:10000360-1837879200-1837886400@www.highstreetplace.com
SUMMARY:Trivia Tuesdays
DESCRIPTION:Join us every Tuesday for trivia at 6pm and 7pm\, led by Stump.
URL:https://www.highstreetplace.com/event/trivia-tuesdays/2028-03-28/
CATEGORIES:Entertainment
ATTACH;FMTTYPE=image/png:https://www.highstreetplace.com/wp-content/uploads/2023/11/Bright-Sign-Template-for-Events-23.png
END:VEVENT
BEGIN:VEVENT
DTSTART;TZID=America/New_York:20280404T180000
DTEND;TZID=America/New_York:20280404T200000
DTSTAMP:20260419T165258
CREATED:20231120T181726Z
LAST-MODIFIED:20260330T172143Z
UID:10000361-1838484000-1838491200@www.highstreetplace.com
SUMMARY:Trivia Tuesdays
DESCRIPTION:Join us every Tuesday for trivia at 6pm and 7pm\, led by Stump.
URL:https://www.highstreetplace.com/event/trivia-tuesdays/2028-04-04/
CATEGORIES:Entertainment
ATTACH;FMTTYPE=image/png:https://www.highstreetplace.com/wp-content/uploads/2023/11/Bright-Sign-Template-for-Events-23.png
END:VEVENT
BEGIN:VEVENT
DTSTART;TZID=America/New_York:20280411T180000
DTEND;TZID=America/New_York:20280411T200000
DTSTAMP:20260419T165258
CREATED:20231120T181726Z
LAST-MODIFIED:20260330T172143Z
UID:10000362-1839088800-1839096000@www.highstreetplace.com
SUMMARY:Trivia Tuesdays
DESCRIPTION:Join us every Tuesday for trivia at 6pm and 7pm\, led by Stump.
URL:https://www.highstreetplace.com/event/trivia-tuesdays/2028-04-11/
CATEGORIES:Entertainment
ATTACH;FMTTYPE=image/png:https://www.highstreetplace.com/wp-content/uploads/2023/11/Bright-Sign-Template-for-Events-23.png
END:VEVENT
BEGIN:VEVENT
DTSTART;TZID=America/New_York:20280418T180000
DTEND;TZID=America/New_York:20280418T200000
DTSTAMP:20260419T165258
CREATED:20231120T181726Z
LAST-MODIFIED:20260330T172143Z
UID:10000363-1839693600-1839700800@www.highstreetplace.com
SUMMARY:Trivia Tuesdays
DESCRIPTION:Join us every Tuesday for trivia at 6pm and 7pm\, led by Stump.
URL:https://www.highstreetplace.com/event/trivia-tuesdays/2028-04-18/
CATEGORIES:Entertainment
ATTACH;FMTTYPE=image/png:https://www.highstreetplace.com/wp-content/uploads/2023/11/Bright-Sign-Template-for-Events-23.png
END:VEVENT
BEGIN:VEVENT
DTSTART;TZID=America/New_York:20280425T180000
DTEND;TZID=America/New_York:20280425T200000
DTSTAMP:20260419T165258
CREATED:20231120T181726Z
LAST-MODIFIED:20260330T172143Z
UID:10000364-1840298400-1840305600@www.highstreetplace.com
SUMMARY:Trivia Tuesdays
DESCRIPTION:Join us every Tuesday for trivia at 6pm and 7pm\, led by Stump.
URL:https://www.highstreetplace.com/event/trivia-tuesdays/2028-04-25/
CATEGORIES:Entertainment
ATTACH;FMTTYPE=image/png:https://www.highstreetplace.com/wp-content/uploads/2023/11/Bright-Sign-Template-for-Events-23.png
END:VEVENT
BEGIN:VEVENT
DTSTART;TZID=America/New_York:20280502T180000
DTEND;TZID=America/New_York:20280502T200000
DTSTAMP:20260419T165258
CREATED:20231120T181726Z
LAST-MODIFIED:20260330T172143Z
UID:10000365-1840903200-1840910400@www.highstreetplace.com
SUMMARY:Trivia Tuesdays
DESCRIPTION:Join us every Tuesday for trivia at 6pm and 7pm\, led by Stump.
URL:https://www.highstreetplace.com/event/trivia-tuesdays/2028-05-02/
CATEGORIES:Entertainment
ATTACH;FMTTYPE=image/png:https://www.highstreetplace.com/wp-content/uploads/2023/11/Bright-Sign-Template-for-Events-23.png
END:VEVENT
BEGIN:VEVENT
DTSTART;TZID=America/New_York:20280509T180000
DTEND;TZID=America/New_York:20280509T200000
DTSTAMP:20260419T165258
CREATED:20231120T181726Z
LAST-MODIFIED:20260330T172143Z
UID:10000366-1841508000-1841515200@www.highstreetplace.com
SUMMARY:Trivia Tuesdays
DESCRIPTION:Join us every Tuesday for trivia at 6pm and 7pm\, led by Stump.
URL:https://www.highstreetplace.com/event/trivia-tuesdays/2028-05-09/
CATEGORIES:Entertainment
ATTACH;FMTTYPE=image/png:https://www.highstreetplace.com/wp-content/uploads/2023/11/Bright-Sign-Template-for-Events-23.png
END:VEVENT
END:VCALENDAR