


BEGIN:VCALENDAR
VERSION:2.0
PRODID:-//High Street Place - ECPv6.15.11//NONSGML v1.0//EN
CALSCALE:GREGORIAN
METHOD:PUBLISH
X-WR-CALNAME:High Street Place
X-ORIGINAL-URL:https://www.highstreetplace.com
X-WR-CALDESC:Events for High Street Place
REFRESH-INTERVAL;VALUE=DURATION:PT1H
X-Robots-Tag:noindex
X-PUBLISHED-TTL:PT1H
BEGIN:VTIMEZONE
TZID:America/New_York
BEGIN:DAYLIGHT
TZOFFSETFROM:-0500
TZOFFSETTO:-0400
TZNAME:EDT
DTSTART:20270314T070000
END:DAYLIGHT
BEGIN:STANDARD
TZOFFSETFROM:-0400
TZOFFSETTO:-0500
TZNAME:EST
DTSTART:20271107T060000
END:STANDARD
BEGIN:DAYLIGHT
TZOFFSETFROM:-0500
TZOFFSETTO:-0400
TZNAME:EDT
DTSTART:20280312T070000
END:DAYLIGHT
BEGIN:STANDARD
TZOFFSETFROM:-0400
TZOFFSETTO:-0500
TZNAME:EST
DTSTART:20281105T060000
END:STANDARD
BEGIN:DAYLIGHT
TZOFFSETFROM:-0500
TZOFFSETTO:-0400
TZNAME:EDT
DTSTART:20290311T070000
END:DAYLIGHT
BEGIN:STANDARD
TZOFFSETFROM:-0400
TZOFFSETTO:-0500
TZNAME:EST
DTSTART:20291104T060000
END:STANDARD
BEGIN:DAYLIGHT
TZOFFSETFROM:-0500
TZOFFSETTO:-0400
TZNAME:EDT
DTSTART:20300310T070000
END:DAYLIGHT
BEGIN:STANDARD
TZOFFSETFROM:-0400
TZOFFSETTO:-0500
TZNAME:EST
DTSTART:20301103T060000
END:STANDARD
END:VTIMEZONE
BEGIN:VEVENT
DTSTART;TZID=America/New_York:20281219T180000
DTEND;TZID=America/New_York:20281219T200000
DTSTAMP:20260420T033213
CREATED:20231120T181726Z
LAST-MODIFIED:20260330T172143Z
UID:10000754-1860861600-1860868800@www.highstreetplace.com
SUMMARY:Trivia Tuesdays
DESCRIPTION:Join us every Tuesday for trivia at 6pm and 7pm\, led by Stump.
URL:https://www.highstreetplace.com/event/trivia-tuesdays/2028-12-19/
CATEGORIES:Entertainment
ATTACH;FMTTYPE=image/png:https://www.highstreetplace.com/wp-content/uploads/2023/11/Bright-Sign-Template-for-Events-23.png
END:VEVENT
BEGIN:VEVENT
DTSTART;TZID=America/New_York:20281226T180000
DTEND;TZID=America/New_York:20281226T200000
DTSTAMP:20260420T033213
CREATED:20231120T181726Z
LAST-MODIFIED:20260330T172143Z
UID:10000755-1861466400-1861473600@www.highstreetplace.com
SUMMARY:Trivia Tuesdays
DESCRIPTION:Join us every Tuesday for trivia at 6pm and 7pm\, led by Stump.
URL:https://www.highstreetplace.com/event/trivia-tuesdays/2028-12-26/
CATEGORIES:Entertainment
ATTACH;FMTTYPE=image/png:https://www.highstreetplace.com/wp-content/uploads/2023/11/Bright-Sign-Template-for-Events-23.png
END:VEVENT
BEGIN:VEVENT
DTSTART;TZID=America/New_York:20290102T180000
DTEND;TZID=America/New_York:20290102T200000
DTSTAMP:20260420T033213
CREATED:20231120T181726Z
LAST-MODIFIED:20260330T172143Z
UID:10000756-1862071200-1862078400@www.highstreetplace.com
SUMMARY:Trivia Tuesdays
DESCRIPTION:Join us every Tuesday for trivia at 6pm and 7pm\, led by Stump.
URL:https://www.highstreetplace.com/event/trivia-tuesdays/2029-01-02/
CATEGORIES:Entertainment
ATTACH;FMTTYPE=image/png:https://www.highstreetplace.com/wp-content/uploads/2023/11/Bright-Sign-Template-for-Events-23.png
END:VEVENT
BEGIN:VEVENT
DTSTART;TZID=America/New_York:20290109T180000
DTEND;TZID=America/New_York:20290109T200000
DTSTAMP:20260420T033213
CREATED:20231120T181726Z
LAST-MODIFIED:20260330T172143Z
UID:10000757-1862676000-1862683200@www.highstreetplace.com
SUMMARY:Trivia Tuesdays
DESCRIPTION:Join us every Tuesday for trivia at 6pm and 7pm\, led by Stump.
URL:https://www.highstreetplace.com/event/trivia-tuesdays/2029-01-09/
CATEGORIES:Entertainment
ATTACH;FMTTYPE=image/png:https://www.highstreetplace.com/wp-content/uploads/2023/11/Bright-Sign-Template-for-Events-23.png
END:VEVENT
BEGIN:VEVENT
DTSTART;TZID=America/New_York:20290116T180000
DTEND;TZID=America/New_York:20290116T200000
DTSTAMP:20260420T033213
CREATED:20231120T181726Z
LAST-MODIFIED:20260330T172143Z
UID:10000758-1863280800-1863288000@www.highstreetplace.com
SUMMARY:Trivia Tuesdays
DESCRIPTION:Join us every Tuesday for trivia at 6pm and 7pm\, led by Stump.
URL:https://www.highstreetplace.com/event/trivia-tuesdays/2029-01-16/
CATEGORIES:Entertainment
ATTACH;FMTTYPE=image/png:https://www.highstreetplace.com/wp-content/uploads/2023/11/Bright-Sign-Template-for-Events-23.png
END:VEVENT
BEGIN:VEVENT
DTSTART;TZID=America/New_York:20290123T180000
DTEND;TZID=America/New_York:20290123T200000
DTSTAMP:20260420T033213
CREATED:20231120T181726Z
LAST-MODIFIED:20260330T172143Z
UID:10000759-1863885600-1863892800@www.highstreetplace.com
SUMMARY:Trivia Tuesdays
DESCRIPTION:Join us every Tuesday for trivia at 6pm and 7pm\, led by Stump.
URL:https://www.highstreetplace.com/event/trivia-tuesdays/2029-01-23/
CATEGORIES:Entertainment
ATTACH;FMTTYPE=image/png:https://www.highstreetplace.com/wp-content/uploads/2023/11/Bright-Sign-Template-for-Events-23.png
END:VEVENT
BEGIN:VEVENT
DTSTART;TZID=America/New_York:20290130T180000
DTEND;TZID=America/New_York:20290130T200000
DTSTAMP:20260420T033213
CREATED:20231120T181726Z
LAST-MODIFIED:20260330T172143Z
UID:10000760-1864490400-1864497600@www.highstreetplace.com
SUMMARY:Trivia Tuesdays
DESCRIPTION:Join us every Tuesday for trivia at 6pm and 7pm\, led by Stump.
URL:https://www.highstreetplace.com/event/trivia-tuesdays/2029-01-30/
CATEGORIES:Entertainment
ATTACH;FMTTYPE=image/png:https://www.highstreetplace.com/wp-content/uploads/2023/11/Bright-Sign-Template-for-Events-23.png
END:VEVENT
BEGIN:VEVENT
DTSTART;TZID=America/New_York:20290206T180000
DTEND;TZID=America/New_York:20290206T200000
DTSTAMP:20260420T033213
CREATED:20231120T181726Z
LAST-MODIFIED:20260330T172143Z
UID:10000761-1865095200-1865102400@www.highstreetplace.com
SUMMARY:Trivia Tuesdays
DESCRIPTION:Join us every Tuesday for trivia at 6pm and 7pm\, led by Stump.
URL:https://www.highstreetplace.com/event/trivia-tuesdays/2029-02-06/
CATEGORIES:Entertainment
ATTACH;FMTTYPE=image/png:https://www.highstreetplace.com/wp-content/uploads/2023/11/Bright-Sign-Template-for-Events-23.png
END:VEVENT
BEGIN:VEVENT
DTSTART;TZID=America/New_York:20290213T180000
DTEND;TZID=America/New_York:20290213T200000
DTSTAMP:20260420T033213
CREATED:20231120T181726Z
LAST-MODIFIED:20260330T172143Z
UID:10000762-1865700000-1865707200@www.highstreetplace.com
SUMMARY:Trivia Tuesdays
DESCRIPTION:Join us every Tuesday for trivia at 6pm and 7pm\, led by Stump.
URL:https://www.highstreetplace.com/event/trivia-tuesdays/2029-02-13/
CATEGORIES:Entertainment
ATTACH;FMTTYPE=image/png:https://www.highstreetplace.com/wp-content/uploads/2023/11/Bright-Sign-Template-for-Events-23.png
END:VEVENT
BEGIN:VEVENT
DTSTART;TZID=America/New_York:20290220T180000
DTEND;TZID=America/New_York:20290220T200000
DTSTAMP:20260420T033213
CREATED:20231120T181726Z
LAST-MODIFIED:20260330T172143Z
UID:10000763-1866304800-1866312000@www.highstreetplace.com
SUMMARY:Trivia Tuesdays
DESCRIPTION:Join us every Tuesday for trivia at 6pm and 7pm\, led by Stump.
URL:https://www.highstreetplace.com/event/trivia-tuesdays/2029-02-20/
CATEGORIES:Entertainment
ATTACH;FMTTYPE=image/png:https://www.highstreetplace.com/wp-content/uploads/2023/11/Bright-Sign-Template-for-Events-23.png
END:VEVENT
BEGIN:VEVENT
DTSTART;TZID=America/New_York:20290227T180000
DTEND;TZID=America/New_York:20290227T200000
DTSTAMP:20260420T033214
CREATED:20231120T181726Z
LAST-MODIFIED:20260330T172143Z
UID:10000764-1866909600-1866916800@www.highstreetplace.com
SUMMARY:Trivia Tuesdays
DESCRIPTION:Join us every Tuesday for trivia at 6pm and 7pm\, led by Stump.
URL:https://www.highstreetplace.com/event/trivia-tuesdays/2029-02-27/
CATEGORIES:Entertainment
ATTACH;FMTTYPE=image/png:https://www.highstreetplace.com/wp-content/uploads/2023/11/Bright-Sign-Template-for-Events-23.png
END:VEVENT
BEGIN:VEVENT
DTSTART;TZID=America/New_York:20290306T180000
DTEND;TZID=America/New_York:20290306T200000
DTSTAMP:20260420T033214
CREATED:20231120T181726Z
LAST-MODIFIED:20260330T172143Z
UID:10000765-1867514400-1867521600@www.highstreetplace.com
SUMMARY:Trivia Tuesdays
DESCRIPTION:Join us every Tuesday for trivia at 6pm and 7pm\, led by Stump.
URL:https://www.highstreetplace.com/event/trivia-tuesdays/2029-03-06/
CATEGORIES:Entertainment
ATTACH;FMTTYPE=image/png:https://www.highstreetplace.com/wp-content/uploads/2023/11/Bright-Sign-Template-for-Events-23.png
END:VEVENT
BEGIN:VEVENT
DTSTART;TZID=America/New_York:20290313T180000
DTEND;TZID=America/New_York:20290313T200000
DTSTAMP:20260420T033214
CREATED:20231120T181726Z
LAST-MODIFIED:20260330T172143Z
UID:10000766-1868119200-1868126400@www.highstreetplace.com
SUMMARY:Trivia Tuesdays
DESCRIPTION:Join us every Tuesday for trivia at 6pm and 7pm\, led by Stump.
URL:https://www.highstreetplace.com/event/trivia-tuesdays/2029-03-13/
CATEGORIES:Entertainment
ATTACH;FMTTYPE=image/png:https://www.highstreetplace.com/wp-content/uploads/2023/11/Bright-Sign-Template-for-Events-23.png
END:VEVENT
BEGIN:VEVENT
DTSTART;TZID=America/New_York:20290320T180000
DTEND;TZID=America/New_York:20290320T200000
DTSTAMP:20260420T033214
CREATED:20231120T181726Z
LAST-MODIFIED:20260330T172143Z
UID:10000767-1868724000-1868731200@www.highstreetplace.com
SUMMARY:Trivia Tuesdays
DESCRIPTION:Join us every Tuesday for trivia at 6pm and 7pm\, led by Stump.
URL:https://www.highstreetplace.com/event/trivia-tuesdays/2029-03-20/
CATEGORIES:Entertainment
ATTACH;FMTTYPE=image/png:https://www.highstreetplace.com/wp-content/uploads/2023/11/Bright-Sign-Template-for-Events-23.png
END:VEVENT
BEGIN:VEVENT
DTSTART;TZID=America/New_York:20290327T180000
DTEND;TZID=America/New_York:20290327T200000
DTSTAMP:20260420T033214
CREATED:20231120T181726Z
LAST-MODIFIED:20260330T172143Z
UID:10000768-1869328800-1869336000@www.highstreetplace.com
SUMMARY:Trivia Tuesdays
DESCRIPTION:Join us every Tuesday for trivia at 6pm and 7pm\, led by Stump.
URL:https://www.highstreetplace.com/event/trivia-tuesdays/2029-03-27/
CATEGORIES:Entertainment
ATTACH;FMTTYPE=image/png:https://www.highstreetplace.com/wp-content/uploads/2023/11/Bright-Sign-Template-for-Events-23.png
END:VEVENT
BEGIN:VEVENT
DTSTART;TZID=America/New_York:20290403T180000
DTEND;TZID=America/New_York:20290403T200000
DTSTAMP:20260420T033214
CREATED:20231120T181726Z
LAST-MODIFIED:20260330T172143Z
UID:10000769-1869933600-1869940800@www.highstreetplace.com
SUMMARY:Trivia Tuesdays
DESCRIPTION:Join us every Tuesday for trivia at 6pm and 7pm\, led by Stump.
URL:https://www.highstreetplace.com/event/trivia-tuesdays/2029-04-03/
CATEGORIES:Entertainment
ATTACH;FMTTYPE=image/png:https://www.highstreetplace.com/wp-content/uploads/2023/11/Bright-Sign-Template-for-Events-23.png
END:VEVENT
BEGIN:VEVENT
DTSTART;TZID=America/New_York:20290410T180000
DTEND;TZID=America/New_York:20290410T200000
DTSTAMP:20260420T033214
CREATED:20231120T181726Z
LAST-MODIFIED:20260330T172143Z
UID:10000770-1870538400-1870545600@www.highstreetplace.com
SUMMARY:Trivia Tuesdays
DESCRIPTION:Join us every Tuesday for trivia at 6pm and 7pm\, led by Stump.
URL:https://www.highstreetplace.com/event/trivia-tuesdays/2029-04-10/
CATEGORIES:Entertainment
ATTACH;FMTTYPE=image/png:https://www.highstreetplace.com/wp-content/uploads/2023/11/Bright-Sign-Template-for-Events-23.png
END:VEVENT
BEGIN:VEVENT
DTSTART;TZID=America/New_York:20290417T180000
DTEND;TZID=America/New_York:20290417T200000
DTSTAMP:20260420T033214
CREATED:20231120T181726Z
LAST-MODIFIED:20260330T172143Z
UID:10000771-1871143200-1871150400@www.highstreetplace.com
SUMMARY:Trivia Tuesdays
DESCRIPTION:Join us every Tuesday for trivia at 6pm and 7pm\, led by Stump.
URL:https://www.highstreetplace.com/event/trivia-tuesdays/2029-04-17/
CATEGORIES:Entertainment
ATTACH;FMTTYPE=image/png:https://www.highstreetplace.com/wp-content/uploads/2023/11/Bright-Sign-Template-for-Events-23.png
END:VEVENT
BEGIN:VEVENT
DTSTART;TZID=America/New_York:20290424T180000
DTEND;TZID=America/New_York:20290424T200000
DTSTAMP:20260420T033214
CREATED:20231120T181726Z
LAST-MODIFIED:20260330T172143Z
UID:10000772-1871748000-1871755200@www.highstreetplace.com
SUMMARY:Trivia Tuesdays
DESCRIPTION:Join us every Tuesday for trivia at 6pm and 7pm\, led by Stump.
URL:https://www.highstreetplace.com/event/trivia-tuesdays/2029-04-24/
CATEGORIES:Entertainment
ATTACH;FMTTYPE=image/png:https://www.highstreetplace.com/wp-content/uploads/2023/11/Bright-Sign-Template-for-Events-23.png
END:VEVENT
BEGIN:VEVENT
DTSTART;TZID=America/New_York:20290501T180000
DTEND;TZID=America/New_York:20290501T200000
DTSTAMP:20260420T033214
CREATED:20231120T181726Z
LAST-MODIFIED:20260330T172143Z
UID:10000773-1872352800-1872360000@www.highstreetplace.com
SUMMARY:Trivia Tuesdays
DESCRIPTION:Join us every Tuesday for trivia at 6pm and 7pm\, led by Stump.
URL:https://www.highstreetplace.com/event/trivia-tuesdays/2029-05-01/
CATEGORIES:Entertainment
ATTACH;FMTTYPE=image/png:https://www.highstreetplace.com/wp-content/uploads/2023/11/Bright-Sign-Template-for-Events-23.png
END:VEVENT
BEGIN:VEVENT
DTSTART;TZID=America/New_York:20290508T180000
DTEND;TZID=America/New_York:20290508T200000
DTSTAMP:20260420T033214
CREATED:20231120T181726Z
LAST-MODIFIED:20260330T172143Z
UID:10000774-1872957600-1872964800@www.highstreetplace.com
SUMMARY:Trivia Tuesdays
DESCRIPTION:Join us every Tuesday for trivia at 6pm and 7pm\, led by Stump.
URL:https://www.highstreetplace.com/event/trivia-tuesdays/2029-05-08/
CATEGORIES:Entertainment
ATTACH;FMTTYPE=image/png:https://www.highstreetplace.com/wp-content/uploads/2023/11/Bright-Sign-Template-for-Events-23.png
END:VEVENT
BEGIN:VEVENT
DTSTART;TZID=America/New_York:20290515T180000
DTEND;TZID=America/New_York:20290515T200000
DTSTAMP:20260420T033214
CREATED:20231120T181726Z
LAST-MODIFIED:20260330T172143Z
UID:10000775-1873562400-1873569600@www.highstreetplace.com
SUMMARY:Trivia Tuesdays
DESCRIPTION:Join us every Tuesday for trivia at 6pm and 7pm\, led by Stump.
URL:https://www.highstreetplace.com/event/trivia-tuesdays/2029-05-15/
CATEGORIES:Entertainment
ATTACH;FMTTYPE=image/png:https://www.highstreetplace.com/wp-content/uploads/2023/11/Bright-Sign-Template-for-Events-23.png
END:VEVENT
BEGIN:VEVENT
DTSTART;TZID=America/New_York:20290522T180000
DTEND;TZID=America/New_York:20290522T200000
DTSTAMP:20260420T033214
CREATED:20231120T181726Z
LAST-MODIFIED:20260330T172143Z
UID:10000776-1874167200-1874174400@www.highstreetplace.com
SUMMARY:Trivia Tuesdays
DESCRIPTION:Join us every Tuesday for trivia at 6pm and 7pm\, led by Stump.
URL:https://www.highstreetplace.com/event/trivia-tuesdays/2029-05-22/
CATEGORIES:Entertainment
ATTACH;FMTTYPE=image/png:https://www.highstreetplace.com/wp-content/uploads/2023/11/Bright-Sign-Template-for-Events-23.png
END:VEVENT
BEGIN:VEVENT
DTSTART;TZID=America/New_York:20290529T180000
DTEND;TZID=America/New_York:20290529T200000
DTSTAMP:20260420T033214
CREATED:20231120T181726Z
LAST-MODIFIED:20260330T172143Z
UID:10000777-1874772000-1874779200@www.highstreetplace.com
SUMMARY:Trivia Tuesdays
DESCRIPTION:Join us every Tuesday for trivia at 6pm and 7pm\, led by Stump.
URL:https://www.highstreetplace.com/event/trivia-tuesdays/2029-05-29/
CATEGORIES:Entertainment
ATTACH;FMTTYPE=image/png:https://www.highstreetplace.com/wp-content/uploads/2023/11/Bright-Sign-Template-for-Events-23.png
END:VEVENT
BEGIN:VEVENT
DTSTART;TZID=America/New_York:20290605T180000
DTEND;TZID=America/New_York:20290605T200000
DTSTAMP:20260420T033214
CREATED:20231120T181726Z
LAST-MODIFIED:20260330T172143Z
UID:10000778-1875376800-1875384000@www.highstreetplace.com
SUMMARY:Trivia Tuesdays
DESCRIPTION:Join us every Tuesday for trivia at 6pm and 7pm\, led by Stump.
URL:https://www.highstreetplace.com/event/trivia-tuesdays/2029-06-05/
CATEGORIES:Entertainment
ATTACH;FMTTYPE=image/png:https://www.highstreetplace.com/wp-content/uploads/2023/11/Bright-Sign-Template-for-Events-23.png
END:VEVENT
BEGIN:VEVENT
DTSTART;TZID=America/New_York:20290612T180000
DTEND;TZID=America/New_York:20290612T200000
DTSTAMP:20260420T033214
CREATED:20231120T181726Z
LAST-MODIFIED:20260330T172143Z
UID:10000779-1875981600-1875988800@www.highstreetplace.com
SUMMARY:Trivia Tuesdays
DESCRIPTION:Join us every Tuesday for trivia at 6pm and 7pm\, led by Stump.
URL:https://www.highstreetplace.com/event/trivia-tuesdays/2029-06-12/
CATEGORIES:Entertainment
ATTACH;FMTTYPE=image/png:https://www.highstreetplace.com/wp-content/uploads/2023/11/Bright-Sign-Template-for-Events-23.png
END:VEVENT
BEGIN:VEVENT
DTSTART;TZID=America/New_York:20290619T180000
DTEND;TZID=America/New_York:20290619T200000
DTSTAMP:20260420T033214
CREATED:20231120T181726Z
LAST-MODIFIED:20260330T172143Z
UID:10000780-1876586400-1876593600@www.highstreetplace.com
SUMMARY:Trivia Tuesdays
DESCRIPTION:Join us every Tuesday for trivia at 6pm and 7pm\, led by Stump.
URL:https://www.highstreetplace.com/event/trivia-tuesdays/2029-06-19/
CATEGORIES:Entertainment
ATTACH;FMTTYPE=image/png:https://www.highstreetplace.com/wp-content/uploads/2023/11/Bright-Sign-Template-for-Events-23.png
END:VEVENT
BEGIN:VEVENT
DTSTART;TZID=America/New_York:20290626T180000
DTEND;TZID=America/New_York:20290626T200000
DTSTAMP:20260420T033214
CREATED:20231120T181726Z
LAST-MODIFIED:20260330T172143Z
UID:10000781-1877191200-1877198400@www.highstreetplace.com
SUMMARY:Trivia Tuesdays
DESCRIPTION:Join us every Tuesday for trivia at 6pm and 7pm\, led by Stump.
URL:https://www.highstreetplace.com/event/trivia-tuesdays/2029-06-26/
CATEGORIES:Entertainment
ATTACH;FMTTYPE=image/png:https://www.highstreetplace.com/wp-content/uploads/2023/11/Bright-Sign-Template-for-Events-23.png
END:VEVENT
BEGIN:VEVENT
DTSTART;TZID=America/New_York:20290703T180000
DTEND;TZID=America/New_York:20290703T200000
DTSTAMP:20260420T033214
CREATED:20231120T181726Z
LAST-MODIFIED:20260330T172143Z
UID:10000782-1877796000-1877803200@www.highstreetplace.com
SUMMARY:Trivia Tuesdays
DESCRIPTION:Join us every Tuesday for trivia at 6pm and 7pm\, led by Stump.
URL:https://www.highstreetplace.com/event/trivia-tuesdays/2029-07-03/
CATEGORIES:Entertainment
ATTACH;FMTTYPE=image/png:https://www.highstreetplace.com/wp-content/uploads/2023/11/Bright-Sign-Template-for-Events-23.png
END:VEVENT
BEGIN:VEVENT
DTSTART;TZID=America/New_York:20290710T180000
DTEND;TZID=America/New_York:20290710T200000
DTSTAMP:20260420T033214
CREATED:20231120T181726Z
LAST-MODIFIED:20260330T172143Z
UID:10000783-1878400800-1878408000@www.highstreetplace.com
SUMMARY:Trivia Tuesdays
DESCRIPTION:Join us every Tuesday for trivia at 6pm and 7pm\, led by Stump.
URL:https://www.highstreetplace.com/event/trivia-tuesdays/2029-07-10/
CATEGORIES:Entertainment
ATTACH;FMTTYPE=image/png:https://www.highstreetplace.com/wp-content/uploads/2023/11/Bright-Sign-Template-for-Events-23.png
END:VEVENT
END:VCALENDAR