


BEGIN:VCALENDAR
VERSION:2.0
PRODID:-//High Street Place - ECPv6.15.11//NONSGML v1.0//EN
CALSCALE:GREGORIAN
METHOD:PUBLISH
X-ORIGINAL-URL:https://www.highstreetplace.com
X-WR-CALDESC:Events for High Street Place
REFRESH-INTERVAL;VALUE=DURATION:PT1H
X-Robots-Tag:noindex
X-PUBLISHED-TTL:PT1H
BEGIN:VTIMEZONE
TZID:America/New_York
BEGIN:DAYLIGHT
TZOFFSETFROM:-0500
TZOFFSETTO:-0400
TZNAME:EDT
DTSTART:20270314T070000
END:DAYLIGHT
BEGIN:STANDARD
TZOFFSETFROM:-0400
TZOFFSETTO:-0500
TZNAME:EST
DTSTART:20271107T060000
END:STANDARD
BEGIN:DAYLIGHT
TZOFFSETFROM:-0500
TZOFFSETTO:-0400
TZNAME:EDT
DTSTART:20280312T070000
END:DAYLIGHT
BEGIN:STANDARD
TZOFFSETFROM:-0400
TZOFFSETTO:-0500
TZNAME:EST
DTSTART:20281105T060000
END:STANDARD
BEGIN:DAYLIGHT
TZOFFSETFROM:-0500
TZOFFSETTO:-0400
TZNAME:EDT
DTSTART:20290311T070000
END:DAYLIGHT
BEGIN:STANDARD
TZOFFSETFROM:-0400
TZOFFSETTO:-0500
TZNAME:EST
DTSTART:20291104T060000
END:STANDARD
END:VTIMEZONE
BEGIN:VEVENT
DTSTART;TZID=America/New_York:20280229T180000
DTEND;TZID=America/New_York:20280229T200000
DTSTAMP:20260419T200608
CREATED:20231120T181726Z
LAST-MODIFIED:20260330T172143Z
UID:10000356-1835460000-1835467200@www.highstreetplace.com
SUMMARY:Trivia Tuesdays
DESCRIPTION:Join us every Tuesday for trivia at 6pm and 7pm\, led by Stump.
URL:https://www.highstreetplace.com/event/trivia-tuesdays/2028-02-29/
CATEGORIES:Entertainment
ATTACH;FMTTYPE=image/png:https://www.highstreetplace.com/wp-content/uploads/2023/11/Bright-Sign-Template-for-Events-23.png
END:VEVENT
BEGIN:VEVENT
DTSTART;TZID=America/New_York:20280307T180000
DTEND;TZID=America/New_York:20280307T200000
DTSTAMP:20260419T200608
CREATED:20231120T181726Z
LAST-MODIFIED:20260330T172143Z
UID:10000357-1836064800-1836072000@www.highstreetplace.com
SUMMARY:Trivia Tuesdays
DESCRIPTION:Join us every Tuesday for trivia at 6pm and 7pm\, led by Stump.
URL:https://www.highstreetplace.com/event/trivia-tuesdays/2028-03-07/
CATEGORIES:Entertainment
ATTACH;FMTTYPE=image/png:https://www.highstreetplace.com/wp-content/uploads/2023/11/Bright-Sign-Template-for-Events-23.png
END:VEVENT
BEGIN:VEVENT
DTSTART;TZID=America/New_York:20280314T180000
DTEND;TZID=America/New_York:20280314T200000
DTSTAMP:20260419T200608
CREATED:20231120T181726Z
LAST-MODIFIED:20260330T172143Z
UID:10000358-1836669600-1836676800@www.highstreetplace.com
SUMMARY:Trivia Tuesdays
DESCRIPTION:Join us every Tuesday for trivia at 6pm and 7pm\, led by Stump.
URL:https://www.highstreetplace.com/event/trivia-tuesdays/2028-03-14/
CATEGORIES:Entertainment
ATTACH;FMTTYPE=image/png:https://www.highstreetplace.com/wp-content/uploads/2023/11/Bright-Sign-Template-for-Events-23.png
END:VEVENT
BEGIN:VEVENT
DTSTART;TZID=America/New_York:20280321T180000
DTEND;TZID=America/New_York:20280321T200000
DTSTAMP:20260419T200608
CREATED:20231120T181726Z
LAST-MODIFIED:20260330T172143Z
UID:10000359-1837274400-1837281600@www.highstreetplace.com
SUMMARY:Trivia Tuesdays
DESCRIPTION:Join us every Tuesday for trivia at 6pm and 7pm\, led by Stump.
URL:https://www.highstreetplace.com/event/trivia-tuesdays/2028-03-21/
CATEGORIES:Entertainment
ATTACH;FMTTYPE=image/png:https://www.highstreetplace.com/wp-content/uploads/2023/11/Bright-Sign-Template-for-Events-23.png
END:VEVENT
BEGIN:VEVENT
DTSTART;TZID=America/New_York:20280328T180000
DTEND;TZID=America/New_York:20280328T200000
DTSTAMP:20260419T200608
CREATED:20231120T181726Z
LAST-MODIFIED:20260330T172143Z
UID:10000360-1837879200-1837886400@www.highstreetplace.com
SUMMARY:Trivia Tuesdays
DESCRIPTION:Join us every Tuesday for trivia at 6pm and 7pm\, led by Stump.
URL:https://www.highstreetplace.com/event/trivia-tuesdays/2028-03-28/
CATEGORIES:Entertainment
ATTACH;FMTTYPE=image/png:https://www.highstreetplace.com/wp-content/uploads/2023/11/Bright-Sign-Template-for-Events-23.png
END:VEVENT
BEGIN:VEVENT
DTSTART;TZID=America/New_York:20280404T180000
DTEND;TZID=America/New_York:20280404T200000
DTSTAMP:20260419T200608
CREATED:20231120T181726Z
LAST-MODIFIED:20260330T172143Z
UID:10000361-1838484000-1838491200@www.highstreetplace.com
SUMMARY:Trivia Tuesdays
DESCRIPTION:Join us every Tuesday for trivia at 6pm and 7pm\, led by Stump.
URL:https://www.highstreetplace.com/event/trivia-tuesdays/2028-04-04/
CATEGORIES:Entertainment
ATTACH;FMTTYPE=image/png:https://www.highstreetplace.com/wp-content/uploads/2023/11/Bright-Sign-Template-for-Events-23.png
END:VEVENT
BEGIN:VEVENT
DTSTART;TZID=America/New_York:20280411T180000
DTEND;TZID=America/New_York:20280411T200000
DTSTAMP:20260419T200608
CREATED:20231120T181726Z
LAST-MODIFIED:20260330T172143Z
UID:10000362-1839088800-1839096000@www.highstreetplace.com
SUMMARY:Trivia Tuesdays
DESCRIPTION:Join us every Tuesday for trivia at 6pm and 7pm\, led by Stump.
URL:https://www.highstreetplace.com/event/trivia-tuesdays/2028-04-11/
CATEGORIES:Entertainment
ATTACH;FMTTYPE=image/png:https://www.highstreetplace.com/wp-content/uploads/2023/11/Bright-Sign-Template-for-Events-23.png
END:VEVENT
BEGIN:VEVENT
DTSTART;TZID=America/New_York:20280418T180000
DTEND;TZID=America/New_York:20280418T200000
DTSTAMP:20260419T200608
CREATED:20231120T181726Z
LAST-MODIFIED:20260330T172143Z
UID:10000363-1839693600-1839700800@www.highstreetplace.com
SUMMARY:Trivia Tuesdays
DESCRIPTION:Join us every Tuesday for trivia at 6pm and 7pm\, led by Stump.
URL:https://www.highstreetplace.com/event/trivia-tuesdays/2028-04-18/
CATEGORIES:Entertainment
ATTACH;FMTTYPE=image/png:https://www.highstreetplace.com/wp-content/uploads/2023/11/Bright-Sign-Template-for-Events-23.png
END:VEVENT
BEGIN:VEVENT
DTSTART;TZID=America/New_York:20280425T180000
DTEND;TZID=America/New_York:20280425T200000
DTSTAMP:20260419T200608
CREATED:20231120T181726Z
LAST-MODIFIED:20260330T172143Z
UID:10000364-1840298400-1840305600@www.highstreetplace.com
SUMMARY:Trivia Tuesdays
DESCRIPTION:Join us every Tuesday for trivia at 6pm and 7pm\, led by Stump.
URL:https://www.highstreetplace.com/event/trivia-tuesdays/2028-04-25/
CATEGORIES:Entertainment
ATTACH;FMTTYPE=image/png:https://www.highstreetplace.com/wp-content/uploads/2023/11/Bright-Sign-Template-for-Events-23.png
END:VEVENT
BEGIN:VEVENT
DTSTART;TZID=America/New_York:20280502T180000
DTEND;TZID=America/New_York:20280502T200000
DTSTAMP:20260419T200608
CREATED:20231120T181726Z
LAST-MODIFIED:20260330T172143Z
UID:10000365-1840903200-1840910400@www.highstreetplace.com
SUMMARY:Trivia Tuesdays
DESCRIPTION:Join us every Tuesday for trivia at 6pm and 7pm\, led by Stump.
URL:https://www.highstreetplace.com/event/trivia-tuesdays/2028-05-02/
CATEGORIES:Entertainment
ATTACH;FMTTYPE=image/png:https://www.highstreetplace.com/wp-content/uploads/2023/11/Bright-Sign-Template-for-Events-23.png
END:VEVENT
BEGIN:VEVENT
DTSTART;TZID=America/New_York:20280509T180000
DTEND;TZID=America/New_York:20280509T200000
DTSTAMP:20260419T200608
CREATED:20231120T181726Z
LAST-MODIFIED:20260330T172143Z
UID:10000366-1841508000-1841515200@www.highstreetplace.com
SUMMARY:Trivia Tuesdays
DESCRIPTION:Join us every Tuesday for trivia at 6pm and 7pm\, led by Stump.
URL:https://www.highstreetplace.com/event/trivia-tuesdays/2028-05-09/
CATEGORIES:Entertainment
ATTACH;FMTTYPE=image/png:https://www.highstreetplace.com/wp-content/uploads/2023/11/Bright-Sign-Template-for-Events-23.png
END:VEVENT
BEGIN:VEVENT
DTSTART;TZID=America/New_York:20280516T180000
DTEND;TZID=America/New_York:20280516T200000
DTSTAMP:20260419T200608
CREATED:20231120T181726Z
LAST-MODIFIED:20260330T172143Z
UID:10000367-1842112800-1842120000@www.highstreetplace.com
SUMMARY:Trivia Tuesdays
DESCRIPTION:Join us every Tuesday for trivia at 6pm and 7pm\, led by Stump.
URL:https://www.highstreetplace.com/event/trivia-tuesdays/2028-05-16/
CATEGORIES:Entertainment
ATTACH;FMTTYPE=image/png:https://www.highstreetplace.com/wp-content/uploads/2023/11/Bright-Sign-Template-for-Events-23.png
END:VEVENT
BEGIN:VEVENT
DTSTART;TZID=America/New_York:20280523T180000
DTEND;TZID=America/New_York:20280523T200000
DTSTAMP:20260419T200608
CREATED:20231120T181726Z
LAST-MODIFIED:20260330T172143Z
UID:10000368-1842717600-1842724800@www.highstreetplace.com
SUMMARY:Trivia Tuesdays
DESCRIPTION:Join us every Tuesday for trivia at 6pm and 7pm\, led by Stump.
URL:https://www.highstreetplace.com/event/trivia-tuesdays/2028-05-23/
CATEGORIES:Entertainment
ATTACH;FMTTYPE=image/png:https://www.highstreetplace.com/wp-content/uploads/2023/11/Bright-Sign-Template-for-Events-23.png
END:VEVENT
BEGIN:VEVENT
DTSTART;TZID=America/New_York:20280530T180000
DTEND;TZID=America/New_York:20280530T200000
DTSTAMP:20260419T200608
CREATED:20231120T181726Z
LAST-MODIFIED:20260330T172143Z
UID:10000369-1843322400-1843329600@www.highstreetplace.com
SUMMARY:Trivia Tuesdays
DESCRIPTION:Join us every Tuesday for trivia at 6pm and 7pm\, led by Stump.
URL:https://www.highstreetplace.com/event/trivia-tuesdays/2028-05-30/
CATEGORIES:Entertainment
ATTACH;FMTTYPE=image/png:https://www.highstreetplace.com/wp-content/uploads/2023/11/Bright-Sign-Template-for-Events-23.png
END:VEVENT
BEGIN:VEVENT
DTSTART;TZID=America/New_York:20280606T180000
DTEND;TZID=America/New_York:20280606T200000
DTSTAMP:20260419T200608
CREATED:20231120T181726Z
LAST-MODIFIED:20260330T172143Z
UID:10000370-1843927200-1843934400@www.highstreetplace.com
SUMMARY:Trivia Tuesdays
DESCRIPTION:Join us every Tuesday for trivia at 6pm and 7pm\, led by Stump.
URL:https://www.highstreetplace.com/event/trivia-tuesdays/2028-06-06/
CATEGORIES:Entertainment
ATTACH;FMTTYPE=image/png:https://www.highstreetplace.com/wp-content/uploads/2023/11/Bright-Sign-Template-for-Events-23.png
END:VEVENT
BEGIN:VEVENT
DTSTART;TZID=America/New_York:20280613T180000
DTEND;TZID=America/New_York:20280613T200000
DTSTAMP:20260419T200608
CREATED:20231120T181726Z
LAST-MODIFIED:20260330T172143Z
UID:10000371-1844532000-1844539200@www.highstreetplace.com
SUMMARY:Trivia Tuesdays
DESCRIPTION:Join us every Tuesday for trivia at 6pm and 7pm\, led by Stump.
URL:https://www.highstreetplace.com/event/trivia-tuesdays/2028-06-13/
CATEGORIES:Entertainment
ATTACH;FMTTYPE=image/png:https://www.highstreetplace.com/wp-content/uploads/2023/11/Bright-Sign-Template-for-Events-23.png
END:VEVENT
BEGIN:VEVENT
DTSTART;TZID=America/New_York:20280620T180000
DTEND;TZID=America/New_York:20280620T200000
DTSTAMP:20260419T200608
CREATED:20231120T181726Z
LAST-MODIFIED:20260330T172143Z
UID:10000372-1845136800-1845144000@www.highstreetplace.com
SUMMARY:Trivia Tuesdays
DESCRIPTION:Join us every Tuesday for trivia at 6pm and 7pm\, led by Stump.
URL:https://www.highstreetplace.com/event/trivia-tuesdays/2028-06-20/
CATEGORIES:Entertainment
ATTACH;FMTTYPE=image/png:https://www.highstreetplace.com/wp-content/uploads/2023/11/Bright-Sign-Template-for-Events-23.png
END:VEVENT
BEGIN:VEVENT
DTSTART;TZID=America/New_York:20280627T180000
DTEND;TZID=America/New_York:20280627T200000
DTSTAMP:20260419T200608
CREATED:20231120T181726Z
LAST-MODIFIED:20260330T172143Z
UID:10000373-1845741600-1845748800@www.highstreetplace.com
SUMMARY:Trivia Tuesdays
DESCRIPTION:Join us every Tuesday for trivia at 6pm and 7pm\, led by Stump.
URL:https://www.highstreetplace.com/event/trivia-tuesdays/2028-06-27/
CATEGORIES:Entertainment
ATTACH;FMTTYPE=image/png:https://www.highstreetplace.com/wp-content/uploads/2023/11/Bright-Sign-Template-for-Events-23.png
END:VEVENT
BEGIN:VEVENT
DTSTART;TZID=America/New_York:20280704T180000
DTEND;TZID=America/New_York:20280704T200000
DTSTAMP:20260419T200608
CREATED:20231120T181726Z
LAST-MODIFIED:20260330T172143Z
UID:10000374-1846346400-1846353600@www.highstreetplace.com
SUMMARY:Trivia Tuesdays
DESCRIPTION:Join us every Tuesday for trivia at 6pm and 7pm\, led by Stump.
URL:https://www.highstreetplace.com/event/trivia-tuesdays/2028-07-04/
CATEGORIES:Entertainment
ATTACH;FMTTYPE=image/png:https://www.highstreetplace.com/wp-content/uploads/2023/11/Bright-Sign-Template-for-Events-23.png
END:VEVENT
BEGIN:VEVENT
DTSTART;TZID=America/New_York:20280711T180000
DTEND;TZID=America/New_York:20280711T200000
DTSTAMP:20260419T200608
CREATED:20231120T181726Z
LAST-MODIFIED:20260330T172143Z
UID:10000375-1846951200-1846958400@www.highstreetplace.com
SUMMARY:Trivia Tuesdays
DESCRIPTION:Join us every Tuesday for trivia at 6pm and 7pm\, led by Stump.
URL:https://www.highstreetplace.com/event/trivia-tuesdays/2028-07-11/
CATEGORIES:Entertainment
ATTACH;FMTTYPE=image/png:https://www.highstreetplace.com/wp-content/uploads/2023/11/Bright-Sign-Template-for-Events-23.png
END:VEVENT
BEGIN:VEVENT
DTSTART;TZID=America/New_York:20280718T180000
DTEND;TZID=America/New_York:20280718T200000
DTSTAMP:20260419T200608
CREATED:20231120T181726Z
LAST-MODIFIED:20260330T172143Z
UID:10000376-1847556000-1847563200@www.highstreetplace.com
SUMMARY:Trivia Tuesdays
DESCRIPTION:Join us every Tuesday for trivia at 6pm and 7pm\, led by Stump.
URL:https://www.highstreetplace.com/event/trivia-tuesdays/2028-07-18/
CATEGORIES:Entertainment
ATTACH;FMTTYPE=image/png:https://www.highstreetplace.com/wp-content/uploads/2023/11/Bright-Sign-Template-for-Events-23.png
END:VEVENT
BEGIN:VEVENT
DTSTART;TZID=America/New_York:20280725T180000
DTEND;TZID=America/New_York:20280725T200000
DTSTAMP:20260419T200608
CREATED:20231120T181726Z
LAST-MODIFIED:20260330T172143Z
UID:10000377-1848160800-1848168000@www.highstreetplace.com
SUMMARY:Trivia Tuesdays
DESCRIPTION:Join us every Tuesday for trivia at 6pm and 7pm\, led by Stump.
URL:https://www.highstreetplace.com/event/trivia-tuesdays/2028-07-25/
CATEGORIES:Entertainment
ATTACH;FMTTYPE=image/png:https://www.highstreetplace.com/wp-content/uploads/2023/11/Bright-Sign-Template-for-Events-23.png
END:VEVENT
BEGIN:VEVENT
DTSTART;TZID=America/New_York:20280801T180000
DTEND;TZID=America/New_York:20280801T200000
DTSTAMP:20260419T200608
CREATED:20231120T181726Z
LAST-MODIFIED:20260330T172143Z
UID:10000378-1848765600-1848772800@www.highstreetplace.com
SUMMARY:Trivia Tuesdays
DESCRIPTION:Join us every Tuesday for trivia at 6pm and 7pm\, led by Stump.
URL:https://www.highstreetplace.com/event/trivia-tuesdays/2028-08-01/
CATEGORIES:Entertainment
ATTACH;FMTTYPE=image/png:https://www.highstreetplace.com/wp-content/uploads/2023/11/Bright-Sign-Template-for-Events-23.png
END:VEVENT
BEGIN:VEVENT
DTSTART;TZID=America/New_York:20280808T180000
DTEND;TZID=America/New_York:20280808T200000
DTSTAMP:20260419T200608
CREATED:20231120T181726Z
LAST-MODIFIED:20260330T172143Z
UID:10000379-1849370400-1849377600@www.highstreetplace.com
SUMMARY:Trivia Tuesdays
DESCRIPTION:Join us every Tuesday for trivia at 6pm and 7pm\, led by Stump.
URL:https://www.highstreetplace.com/event/trivia-tuesdays/2028-08-08/
CATEGORIES:Entertainment
ATTACH;FMTTYPE=image/png:https://www.highstreetplace.com/wp-content/uploads/2023/11/Bright-Sign-Template-for-Events-23.png
END:VEVENT
BEGIN:VEVENT
DTSTART;TZID=America/New_York:20280815T180000
DTEND;TZID=America/New_York:20280815T200000
DTSTAMP:20260419T200608
CREATED:20231120T181726Z
LAST-MODIFIED:20260330T172143Z
UID:10000380-1849975200-1849982400@www.highstreetplace.com
SUMMARY:Trivia Tuesdays
DESCRIPTION:Join us every Tuesday for trivia at 6pm and 7pm\, led by Stump.
URL:https://www.highstreetplace.com/event/trivia-tuesdays/2028-08-15/
CATEGORIES:Entertainment
ATTACH;FMTTYPE=image/png:https://www.highstreetplace.com/wp-content/uploads/2023/11/Bright-Sign-Template-for-Events-23.png
END:VEVENT
BEGIN:VEVENT
DTSTART;TZID=America/New_York:20280822T180000
DTEND;TZID=America/New_York:20280822T200000
DTSTAMP:20260419T200608
CREATED:20231120T181726Z
LAST-MODIFIED:20260330T172143Z
UID:10000381-1850580000-1850587200@www.highstreetplace.com
SUMMARY:Trivia Tuesdays
DESCRIPTION:Join us every Tuesday for trivia at 6pm and 7pm\, led by Stump.
URL:https://www.highstreetplace.com/event/trivia-tuesdays/2028-08-22/
CATEGORIES:Entertainment
ATTACH;FMTTYPE=image/png:https://www.highstreetplace.com/wp-content/uploads/2023/11/Bright-Sign-Template-for-Events-23.png
END:VEVENT
BEGIN:VEVENT
DTSTART;TZID=America/New_York:20280829T180000
DTEND;TZID=America/New_York:20280829T200000
DTSTAMP:20260419T200608
CREATED:20231120T181726Z
LAST-MODIFIED:20260330T172143Z
UID:10000382-1851184800-1851192000@www.highstreetplace.com
SUMMARY:Trivia Tuesdays
DESCRIPTION:Join us every Tuesday for trivia at 6pm and 7pm\, led by Stump.
URL:https://www.highstreetplace.com/event/trivia-tuesdays/2028-08-29/
CATEGORIES:Entertainment
ATTACH;FMTTYPE=image/png:https://www.highstreetplace.com/wp-content/uploads/2023/11/Bright-Sign-Template-for-Events-23.png
END:VEVENT
BEGIN:VEVENT
DTSTART;TZID=America/New_York:20280905T180000
DTEND;TZID=America/New_York:20280905T200000
DTSTAMP:20260419T200608
CREATED:20231120T181726Z
LAST-MODIFIED:20260330T172143Z
UID:10000383-1851789600-1851796800@www.highstreetplace.com
SUMMARY:Trivia Tuesdays
DESCRIPTION:Join us every Tuesday for trivia at 6pm and 7pm\, led by Stump.
URL:https://www.highstreetplace.com/event/trivia-tuesdays/2028-09-05/
CATEGORIES:Entertainment
ATTACH;FMTTYPE=image/png:https://www.highstreetplace.com/wp-content/uploads/2023/11/Bright-Sign-Template-for-Events-23.png
END:VEVENT
BEGIN:VEVENT
DTSTART;TZID=America/New_York:20280912T180000
DTEND;TZID=America/New_York:20280912T200000
DTSTAMP:20260419T200608
CREATED:20231120T181726Z
LAST-MODIFIED:20260330T172143Z
UID:10000384-1852394400-1852401600@www.highstreetplace.com
SUMMARY:Trivia Tuesdays
DESCRIPTION:Join us every Tuesday for trivia at 6pm and 7pm\, led by Stump.
URL:https://www.highstreetplace.com/event/trivia-tuesdays/2028-09-12/
CATEGORIES:Entertainment
ATTACH;FMTTYPE=image/png:https://www.highstreetplace.com/wp-content/uploads/2023/11/Bright-Sign-Template-for-Events-23.png
END:VEVENT
BEGIN:VEVENT
DTSTART;TZID=America/New_York:20280919T180000
DTEND;TZID=America/New_York:20280919T200000
DTSTAMP:20260419T200608
CREATED:20231120T181726Z
LAST-MODIFIED:20260330T172143Z
UID:10000385-1852999200-1853006400@www.highstreetplace.com
SUMMARY:Trivia Tuesdays
DESCRIPTION:Join us every Tuesday for trivia at 6pm and 7pm\, led by Stump.
URL:https://www.highstreetplace.com/event/trivia-tuesdays/2028-09-19/
CATEGORIES:Entertainment
ATTACH;FMTTYPE=image/png:https://www.highstreetplace.com/wp-content/uploads/2023/11/Bright-Sign-Template-for-Events-23.png
END:VEVENT
END:VCALENDAR