


BEGIN:VCALENDAR
VERSION:2.0
PRODID:-//High Street Place - ECPv6.15.11//NONSGML v1.0//EN
CALSCALE:GREGORIAN
METHOD:PUBLISH
X-WR-CALNAME:High Street Place
X-ORIGINAL-URL:https://www.highstreetplace.com
X-WR-CALDESC:Events for High Street Place
REFRESH-INTERVAL;VALUE=DURATION:PT1H
X-Robots-Tag:noindex
X-PUBLISHED-TTL:PT1H
BEGIN:VTIMEZONE
TZID:America/New_York
BEGIN:DAYLIGHT
TZOFFSETFROM:-0500
TZOFFSETTO:-0400
TZNAME:EDT
DTSTART:20290311T070000
END:DAYLIGHT
BEGIN:STANDARD
TZOFFSETFROM:-0400
TZOFFSETTO:-0500
TZNAME:EST
DTSTART:20291104T060000
END:STANDARD
BEGIN:DAYLIGHT
TZOFFSETFROM:-0500
TZOFFSETTO:-0400
TZNAME:EDT
DTSTART:20300310T070000
END:DAYLIGHT
BEGIN:STANDARD
TZOFFSETFROM:-0400
TZOFFSETTO:-0500
TZNAME:EST
DTSTART:20301103T060000
END:STANDARD
BEGIN:DAYLIGHT
TZOFFSETFROM:-0500
TZOFFSETTO:-0400
TZNAME:EDT
DTSTART:20310309T070000
END:DAYLIGHT
BEGIN:STANDARD
TZOFFSETFROM:-0400
TZOFFSETTO:-0500
TZNAME:EST
DTSTART:20311102T060000
END:STANDARD
BEGIN:DAYLIGHT
TZOFFSETFROM:-0500
TZOFFSETTO:-0400
TZNAME:EDT
DTSTART:20320314T070000
END:DAYLIGHT
BEGIN:STANDARD
TZOFFSETFROM:-0400
TZOFFSETTO:-0500
TZNAME:EST
DTSTART:20321107T060000
END:STANDARD
END:VTIMEZONE
BEGIN:VEVENT
DTSTART;TZID=America/New_York:20301001T180000
DTEND;TZID=America/New_York:20301001T200000
DTSTAMP:20260421T201647
CREATED:20231120T181726Z
LAST-MODIFIED:20260330T172143Z
UID:10001148-1917108000-1917115200@www.highstreetplace.com
SUMMARY:Trivia Tuesdays
DESCRIPTION:Join us every Tuesday for trivia at 6pm and 7pm\, led by Stump.
URL:https://www.highstreetplace.com/event/trivia-tuesdays/2030-10-01/
CATEGORIES:Entertainment
ATTACH;FMTTYPE=image/png:https://www.highstreetplace.com/wp-content/uploads/2023/11/Bright-Sign-Template-for-Events-23.png
END:VEVENT
BEGIN:VEVENT
DTSTART;TZID=America/New_York:20301008T180000
DTEND;TZID=America/New_York:20301008T200000
DTSTAMP:20260421T201647
CREATED:20231120T181726Z
LAST-MODIFIED:20260330T172143Z
UID:10001149-1917712800-1917720000@www.highstreetplace.com
SUMMARY:Trivia Tuesdays
DESCRIPTION:Join us every Tuesday for trivia at 6pm and 7pm\, led by Stump.
URL:https://www.highstreetplace.com/event/trivia-tuesdays/2030-10-08/
CATEGORIES:Entertainment
ATTACH;FMTTYPE=image/png:https://www.highstreetplace.com/wp-content/uploads/2023/11/Bright-Sign-Template-for-Events-23.png
END:VEVENT
BEGIN:VEVENT
DTSTART;TZID=America/New_York:20301015T180000
DTEND;TZID=America/New_York:20301015T200000
DTSTAMP:20260421T201647
CREATED:20231120T181726Z
LAST-MODIFIED:20260330T172143Z
UID:10001150-1918317600-1918324800@www.highstreetplace.com
SUMMARY:Trivia Tuesdays
DESCRIPTION:Join us every Tuesday for trivia at 6pm and 7pm\, led by Stump.
URL:https://www.highstreetplace.com/event/trivia-tuesdays/2030-10-15/
CATEGORIES:Entertainment
ATTACH;FMTTYPE=image/png:https://www.highstreetplace.com/wp-content/uploads/2023/11/Bright-Sign-Template-for-Events-23.png
END:VEVENT
BEGIN:VEVENT
DTSTART;TZID=America/New_York:20301022T180000
DTEND;TZID=America/New_York:20301022T200000
DTSTAMP:20260421T201647
CREATED:20231120T181726Z
LAST-MODIFIED:20260330T172143Z
UID:10001256-1918922400-1918929600@www.highstreetplace.com
SUMMARY:Trivia Tuesdays
DESCRIPTION:Join us every Tuesday for trivia at 6pm and 7pm\, led by Stump.
URL:https://www.highstreetplace.com/event/trivia-tuesdays/2030-10-22/
CATEGORIES:Entertainment
ATTACH;FMTTYPE=image/png:https://www.highstreetplace.com/wp-content/uploads/2023/11/Bright-Sign-Template-for-Events-23.png
END:VEVENT
BEGIN:VEVENT
DTSTART;TZID=America/New_York:20301029T180000
DTEND;TZID=America/New_York:20301029T200000
DTSTAMP:20260421T201647
CREATED:20231120T181726Z
LAST-MODIFIED:20260330T172143Z
UID:10001257-1919527200-1919534400@www.highstreetplace.com
SUMMARY:Trivia Tuesdays
DESCRIPTION:Join us every Tuesday for trivia at 6pm and 7pm\, led by Stump.
URL:https://www.highstreetplace.com/event/trivia-tuesdays/2030-10-29/
CATEGORIES:Entertainment
ATTACH;FMTTYPE=image/png:https://www.highstreetplace.com/wp-content/uploads/2023/11/Bright-Sign-Template-for-Events-23.png
END:VEVENT
BEGIN:VEVENT
DTSTART;TZID=America/New_York:20301105T180000
DTEND;TZID=America/New_York:20301105T200000
DTSTAMP:20260421T201647
CREATED:20231120T181726Z
LAST-MODIFIED:20260330T172143Z
UID:10001258-1920132000-1920139200@www.highstreetplace.com
SUMMARY:Trivia Tuesdays
DESCRIPTION:Join us every Tuesday for trivia at 6pm and 7pm\, led by Stump.
URL:https://www.highstreetplace.com/event/trivia-tuesdays/2030-11-05/
CATEGORIES:Entertainment
ATTACH;FMTTYPE=image/png:https://www.highstreetplace.com/wp-content/uploads/2023/11/Bright-Sign-Template-for-Events-23.png
END:VEVENT
BEGIN:VEVENT
DTSTART;TZID=America/New_York:20301112T180000
DTEND;TZID=America/New_York:20301112T200000
DTSTAMP:20260421T201647
CREATED:20231120T181726Z
LAST-MODIFIED:20260330T172143Z
UID:10001259-1920736800-1920744000@www.highstreetplace.com
SUMMARY:Trivia Tuesdays
DESCRIPTION:Join us every Tuesday for trivia at 6pm and 7pm\, led by Stump.
URL:https://www.highstreetplace.com/event/trivia-tuesdays/2030-11-12/
CATEGORIES:Entertainment
ATTACH;FMTTYPE=image/png:https://www.highstreetplace.com/wp-content/uploads/2023/11/Bright-Sign-Template-for-Events-23.png
END:VEVENT
BEGIN:VEVENT
DTSTART;TZID=America/New_York:20301119T180000
DTEND;TZID=America/New_York:20301119T200000
DTSTAMP:20260421T201647
CREATED:20231120T181726Z
LAST-MODIFIED:20260330T172143Z
UID:10001260-1921341600-1921348800@www.highstreetplace.com
SUMMARY:Trivia Tuesdays
DESCRIPTION:Join us every Tuesday for trivia at 6pm and 7pm\, led by Stump.
URL:https://www.highstreetplace.com/event/trivia-tuesdays/2030-11-19/
CATEGORIES:Entertainment
ATTACH;FMTTYPE=image/png:https://www.highstreetplace.com/wp-content/uploads/2023/11/Bright-Sign-Template-for-Events-23.png
END:VEVENT
BEGIN:VEVENT
DTSTART;TZID=America/New_York:20301126T180000
DTEND;TZID=America/New_York:20301126T200000
DTSTAMP:20260421T201647
CREATED:20231120T181726Z
LAST-MODIFIED:20260330T172143Z
UID:10001261-1921946400-1921953600@www.highstreetplace.com
SUMMARY:Trivia Tuesdays
DESCRIPTION:Join us every Tuesday for trivia at 6pm and 7pm\, led by Stump.
URL:https://www.highstreetplace.com/event/trivia-tuesdays/2030-11-26/
CATEGORIES:Entertainment
ATTACH;FMTTYPE=image/png:https://www.highstreetplace.com/wp-content/uploads/2023/11/Bright-Sign-Template-for-Events-23.png
END:VEVENT
BEGIN:VEVENT
DTSTART;TZID=America/New_York:20301203T180000
DTEND;TZID=America/New_York:20301203T200000
DTSTAMP:20260421T201647
CREATED:20231120T181726Z
LAST-MODIFIED:20260330T172143Z
UID:10001262-1922551200-1922558400@www.highstreetplace.com
SUMMARY:Trivia Tuesdays
DESCRIPTION:Join us every Tuesday for trivia at 6pm and 7pm\, led by Stump.
URL:https://www.highstreetplace.com/event/trivia-tuesdays/2030-12-03/
CATEGORIES:Entertainment
ATTACH;FMTTYPE=image/png:https://www.highstreetplace.com/wp-content/uploads/2023/11/Bright-Sign-Template-for-Events-23.png
END:VEVENT
BEGIN:VEVENT
DTSTART;TZID=America/New_York:20301210T180000
DTEND;TZID=America/New_York:20301210T200000
DTSTAMP:20260421T201647
CREATED:20231120T181726Z
LAST-MODIFIED:20260330T172143Z
UID:10001263-1923156000-1923163200@www.highstreetplace.com
SUMMARY:Trivia Tuesdays
DESCRIPTION:Join us every Tuesday for trivia at 6pm and 7pm\, led by Stump.
URL:https://www.highstreetplace.com/event/trivia-tuesdays/2030-12-10/
CATEGORIES:Entertainment
ATTACH;FMTTYPE=image/png:https://www.highstreetplace.com/wp-content/uploads/2023/11/Bright-Sign-Template-for-Events-23.png
END:VEVENT
BEGIN:VEVENT
DTSTART;TZID=America/New_York:20301217T180000
DTEND;TZID=America/New_York:20301217T200000
DTSTAMP:20260421T201647
CREATED:20231120T181726Z
LAST-MODIFIED:20260330T172143Z
UID:10001264-1923760800-1923768000@www.highstreetplace.com
SUMMARY:Trivia Tuesdays
DESCRIPTION:Join us every Tuesday for trivia at 6pm and 7pm\, led by Stump.
URL:https://www.highstreetplace.com/event/trivia-tuesdays/2030-12-17/
CATEGORIES:Entertainment
ATTACH;FMTTYPE=image/png:https://www.highstreetplace.com/wp-content/uploads/2023/11/Bright-Sign-Template-for-Events-23.png
END:VEVENT
BEGIN:VEVENT
DTSTART;TZID=America/New_York:20301224T180000
DTEND;TZID=America/New_York:20301224T200000
DTSTAMP:20260421T201647
CREATED:20231120T181726Z
LAST-MODIFIED:20260330T172143Z
UID:10001265-1924365600-1924372800@www.highstreetplace.com
SUMMARY:Trivia Tuesdays
DESCRIPTION:Join us every Tuesday for trivia at 6pm and 7pm\, led by Stump.
URL:https://www.highstreetplace.com/event/trivia-tuesdays/2030-12-24/
CATEGORIES:Entertainment
ATTACH;FMTTYPE=image/png:https://www.highstreetplace.com/wp-content/uploads/2023/11/Bright-Sign-Template-for-Events-23.png
END:VEVENT
BEGIN:VEVENT
DTSTART;TZID=America/New_York:20301231T180000
DTEND;TZID=America/New_York:20301231T200000
DTSTAMP:20260421T201647
CREATED:20231120T181726Z
LAST-MODIFIED:20260330T172143Z
UID:10001266-1924970400-1924977600@www.highstreetplace.com
SUMMARY:Trivia Tuesdays
DESCRIPTION:Join us every Tuesday for trivia at 6pm and 7pm\, led by Stump.
URL:https://www.highstreetplace.com/event/trivia-tuesdays/2030-12-31/
CATEGORIES:Entertainment
ATTACH;FMTTYPE=image/png:https://www.highstreetplace.com/wp-content/uploads/2023/11/Bright-Sign-Template-for-Events-23.png
END:VEVENT
BEGIN:VEVENT
DTSTART;TZID=America/New_York:20310107T180000
DTEND;TZID=America/New_York:20310107T200000
DTSTAMP:20260421T201647
CREATED:20231120T181726Z
LAST-MODIFIED:20260330T172143Z
UID:10001267-1925575200-1925582400@www.highstreetplace.com
SUMMARY:Trivia Tuesdays
DESCRIPTION:Join us every Tuesday for trivia at 6pm and 7pm\, led by Stump.
URL:https://www.highstreetplace.com/event/trivia-tuesdays/2031-01-07/
CATEGORIES:Entertainment
ATTACH;FMTTYPE=image/png:https://www.highstreetplace.com/wp-content/uploads/2023/11/Bright-Sign-Template-for-Events-23.png
END:VEVENT
BEGIN:VEVENT
DTSTART;TZID=America/New_York:20310114T180000
DTEND;TZID=America/New_York:20310114T200000
DTSTAMP:20260421T201647
CREATED:20231120T181726Z
LAST-MODIFIED:20260330T172143Z
UID:10001268-1926180000-1926187200@www.highstreetplace.com
SUMMARY:Trivia Tuesdays
DESCRIPTION:Join us every Tuesday for trivia at 6pm and 7pm\, led by Stump.
URL:https://www.highstreetplace.com/event/trivia-tuesdays/2031-01-14/
CATEGORIES:Entertainment
ATTACH;FMTTYPE=image/png:https://www.highstreetplace.com/wp-content/uploads/2023/11/Bright-Sign-Template-for-Events-23.png
END:VEVENT
BEGIN:VEVENT
DTSTART;TZID=America/New_York:20310121T180000
DTEND;TZID=America/New_York:20310121T200000
DTSTAMP:20260421T201647
CREATED:20231120T181726Z
LAST-MODIFIED:20260330T172143Z
UID:10001269-1926784800-1926792000@www.highstreetplace.com
SUMMARY:Trivia Tuesdays
DESCRIPTION:Join us every Tuesday for trivia at 6pm and 7pm\, led by Stump.
URL:https://www.highstreetplace.com/event/trivia-tuesdays/2031-01-21/
CATEGORIES:Entertainment
ATTACH;FMTTYPE=image/png:https://www.highstreetplace.com/wp-content/uploads/2023/11/Bright-Sign-Template-for-Events-23.png
END:VEVENT
BEGIN:VEVENT
DTSTART;TZID=America/New_York:20310128T180000
DTEND;TZID=America/New_York:20310128T200000
DTSTAMP:20260421T201647
CREATED:20231120T181726Z
LAST-MODIFIED:20260330T172143Z
UID:10001270-1927389600-1927396800@www.highstreetplace.com
SUMMARY:Trivia Tuesdays
DESCRIPTION:Join us every Tuesday for trivia at 6pm and 7pm\, led by Stump.
URL:https://www.highstreetplace.com/event/trivia-tuesdays/2031-01-28/
CATEGORIES:Entertainment
ATTACH;FMTTYPE=image/png:https://www.highstreetplace.com/wp-content/uploads/2023/11/Bright-Sign-Template-for-Events-23.png
END:VEVENT
BEGIN:VEVENT
DTSTART;TZID=America/New_York:20310204T180000
DTEND;TZID=America/New_York:20310204T200000
DTSTAMP:20260421T201647
CREATED:20231120T181726Z
LAST-MODIFIED:20260330T172143Z
UID:10001271-1927994400-1928001600@www.highstreetplace.com
SUMMARY:Trivia Tuesdays
DESCRIPTION:Join us every Tuesday for trivia at 6pm and 7pm\, led by Stump.
URL:https://www.highstreetplace.com/event/trivia-tuesdays/2031-02-04/
CATEGORIES:Entertainment
ATTACH;FMTTYPE=image/png:https://www.highstreetplace.com/wp-content/uploads/2023/11/Bright-Sign-Template-for-Events-23.png
END:VEVENT
BEGIN:VEVENT
DTSTART;TZID=America/New_York:20310211T180000
DTEND;TZID=America/New_York:20310211T200000
DTSTAMP:20260421T201647
CREATED:20231120T181726Z
LAST-MODIFIED:20260330T172143Z
UID:10001272-1928599200-1928606400@www.highstreetplace.com
SUMMARY:Trivia Tuesdays
DESCRIPTION:Join us every Tuesday for trivia at 6pm and 7pm\, led by Stump.
URL:https://www.highstreetplace.com/event/trivia-tuesdays/2031-02-11/
CATEGORIES:Entertainment
ATTACH;FMTTYPE=image/png:https://www.highstreetplace.com/wp-content/uploads/2023/11/Bright-Sign-Template-for-Events-23.png
END:VEVENT
BEGIN:VEVENT
DTSTART;TZID=America/New_York:20310218T180000
DTEND;TZID=America/New_York:20310218T200000
DTSTAMP:20260421T201647
CREATED:20231120T181726Z
LAST-MODIFIED:20260330T172143Z
UID:10001273-1929204000-1929211200@www.highstreetplace.com
SUMMARY:Trivia Tuesdays
DESCRIPTION:Join us every Tuesday for trivia at 6pm and 7pm\, led by Stump.
URL:https://www.highstreetplace.com/event/trivia-tuesdays/2031-02-18/
CATEGORIES:Entertainment
ATTACH;FMTTYPE=image/png:https://www.highstreetplace.com/wp-content/uploads/2023/11/Bright-Sign-Template-for-Events-23.png
END:VEVENT
BEGIN:VEVENT
DTSTART;TZID=America/New_York:20310225T180000
DTEND;TZID=America/New_York:20310225T200000
DTSTAMP:20260421T201647
CREATED:20231120T181726Z
LAST-MODIFIED:20260330T172143Z
UID:10001274-1929808800-1929816000@www.highstreetplace.com
SUMMARY:Trivia Tuesdays
DESCRIPTION:Join us every Tuesday for trivia at 6pm and 7pm\, led by Stump.
URL:https://www.highstreetplace.com/event/trivia-tuesdays/2031-02-25/
CATEGORIES:Entertainment
ATTACH;FMTTYPE=image/png:https://www.highstreetplace.com/wp-content/uploads/2023/11/Bright-Sign-Template-for-Events-23.png
END:VEVENT
BEGIN:VEVENT
DTSTART;TZID=America/New_York:20310304T180000
DTEND;TZID=America/New_York:20310304T200000
DTSTAMP:20260421T201647
CREATED:20231120T181726Z
LAST-MODIFIED:20260330T172143Z
UID:10001275-1930413600-1930420800@www.highstreetplace.com
SUMMARY:Trivia Tuesdays
DESCRIPTION:Join us every Tuesday for trivia at 6pm and 7pm\, led by Stump.
URL:https://www.highstreetplace.com/event/trivia-tuesdays/2031-03-04/
CATEGORIES:Entertainment
ATTACH;FMTTYPE=image/png:https://www.highstreetplace.com/wp-content/uploads/2023/11/Bright-Sign-Template-for-Events-23.png
END:VEVENT
BEGIN:VEVENT
DTSTART;TZID=America/New_York:20310311T180000
DTEND;TZID=America/New_York:20310311T200000
DTSTAMP:20260421T201647
CREATED:20231120T181726Z
LAST-MODIFIED:20260330T172143Z
UID:10001276-1931018400-1931025600@www.highstreetplace.com
SUMMARY:Trivia Tuesdays
DESCRIPTION:Join us every Tuesday for trivia at 6pm and 7pm\, led by Stump.
URL:https://www.highstreetplace.com/event/trivia-tuesdays/2031-03-11/
CATEGORIES:Entertainment
ATTACH;FMTTYPE=image/png:https://www.highstreetplace.com/wp-content/uploads/2023/11/Bright-Sign-Template-for-Events-23.png
END:VEVENT
BEGIN:VEVENT
DTSTART;TZID=America/New_York:20310318T180000
DTEND;TZID=America/New_York:20310318T200000
DTSTAMP:20260421T201647
CREATED:20231120T181726Z
LAST-MODIFIED:20260330T172143Z
UID:10001277-1931623200-1931630400@www.highstreetplace.com
SUMMARY:Trivia Tuesdays
DESCRIPTION:Join us every Tuesday for trivia at 6pm and 7pm\, led by Stump.
URL:https://www.highstreetplace.com/event/trivia-tuesdays/2031-03-18/
CATEGORIES:Entertainment
ATTACH;FMTTYPE=image/png:https://www.highstreetplace.com/wp-content/uploads/2023/11/Bright-Sign-Template-for-Events-23.png
END:VEVENT
BEGIN:VEVENT
DTSTART;TZID=America/New_York:20310325T180000
DTEND;TZID=America/New_York:20310325T200000
DTSTAMP:20260421T201647
CREATED:20231120T181726Z
LAST-MODIFIED:20260330T172143Z
UID:10001278-1932228000-1932235200@www.highstreetplace.com
SUMMARY:Trivia Tuesdays
DESCRIPTION:Join us every Tuesday for trivia at 6pm and 7pm\, led by Stump.
URL:https://www.highstreetplace.com/event/trivia-tuesdays/2031-03-25/
CATEGORIES:Entertainment
ATTACH;FMTTYPE=image/png:https://www.highstreetplace.com/wp-content/uploads/2023/11/Bright-Sign-Template-for-Events-23.png
END:VEVENT
END:VCALENDAR